Workbook

Sheet 附件1、资金分配测算表
A1: 附件2-1
A2: 2024年中央专项彩票公益金支持地方社会公益事业发展增量资金分配测算表
A3: 地区 | C3: 2023年60岁及以上老年人数 | D3: 2023年60岁及以上老年人数系数 | E3: 特困人员中失能、部分失能人员数 | F3: 特困人员中失能、部分失能人员系数 | G3: 2022年财力综合系数 | H3: 2022年财力综合系数倒数 | I3: 2022年财力综合系数因素 | J3: 重点老区苏区和其他老区（重点2、其他1） | K3: 重点老区苏区和其他老区数 | L3: 2023年60岁及以上老年人数系数：特困人员中失能、部分失能人员系数：2022年财力综合系数因素：重点老区苏区和其他老区系数=3:3:3：1 | M3: 测算下达金额 | N3: 被巡视的23个县区（每个县区按200万元定额） | O3: 重点工程建设项目（新增床位按每张15万元，升级改造床位数按每张3万元，消防安全改造按400元每平方米） | P3: 下达资金 | Q3: 下达资金取整 | R3: 实际下达资金（对超出的1万元，从给予资金支持最多的梅县区进行调减）
A4: 单位 | C4: 人 | E4: 人 | J4: 个 | M4: 万元 | N4: 万元 | O4: 万元 | P4: 万元 | Q4: 万元 | R4: 万元
A5: 栏目 | C5: 1 | D5: 2 | E5: 3 | F5: 4 | G5: 5 | H5: 6 | I5: 7 | J5: 8 | K5: 9 | L5: 10 | M5: 11 | N5: 12 | O5: 13 | P5: 14 | Q5: 15 | R5: 16
A6: 合计 | C6: =SUM(C7:C75) -> 10106814 | D6: =SUM(D7:D75) -> 1 | E6: =SUM(E7:E75) -> 42475 | F6: =SUM(F7:F75) -> 1 | G6: =SUM(G7:G75) -> 53.333053 | H6: =SUM(H7:H75) -> 93.039488 | I6: =SUM(I7:I75) -> 1 | J6: =SUM(J7:J75) -> 93 | ... L6: =SUM(L7:L75) -> 1 | M6: 4660 | N6: =SUM(N7:N75) -> 4600 | O6: =SUM(O7:O75) -> 7624 | P6: =SUM(P7:P75) -> 16884 | Q6: =SUM(Q7:Q75) -> 16885 | R6: =SUM(R7:R75) -> 16884
A7: 汕头市 | B7: 潮阳区 | C7: 273692 | D7: =C7/C$6 -> 0.027079948 | E7: 400 | F7: =E7/E$6 -> 0.0094173043 | G7: 0.6359518 | H7: =1/G7 -> 1.5724462 | I7: =H7/$H$6 -> 0.016900848 | J7: 2 | K7: =J7/J$6 -> 0.021505376 | L7: =D7*0.3+F7*0.3++I7*0.3+K7*0.1 -> 0.018169968 | M7: =$M$6*L7 -> 84.672049 | P7: =M7+O7+N7 -> 84.672049 | Q7: =ROUND(P7,0) -> 85 | R7: =Q7 -> 85
B8: 潮南区 | C8: 204335 | D8: =C8/C$6 -> 0.020217548 | E8: 133 | F8: =E8/E$6 -> 0.0031312537 | G8: 0.56640943 | H8: =1/G8 -> 1.7655073 | I8: =H8/$H$6 -> 0.018975893 | J8: 2 | K8: =J8/J$6 -> 0.021505376 | L8: =D8*0.3+F8*0.3++I8*0.3+K8*0.1 -> 0.014847946 | M8: =$M$6*L8 -> 69.191428 | P8: =M8+O8+N8 -> 69.191428 | Q8: =ROUND(P8,0) -> 69 | R8: =Q8 -> 69
B9: 澄海区 | C9: 172332 | D9: =C9/C$6 -> 0.017051071 | E9: 38 | F9: =E9/E$6 -> 0.00089464391 | G9: 0.71600375 | H9: =1/G9 -> 1.3966407 | I9: =H9/$H$6 -> 0.015011268 | J9: 1 | K9: =J9/J$6 -> 0.010752688 | L9: =D9*0.3+F9*0.3++I9*0.3+K9*0.1 -> 0.010962364 | M9: =$M$6*L9 -> 51.084615 | P9: =M9+O9+N9 -> 51.084615 | Q9: =ROUND(P9,0) -> 51 | R9: =Q9 -> 51
A10: 韶关市 | B10: 曲江区 | C10: 58221 | D10: =C10/C$6 -> 0.0057605691 | E10: 365 | F10: =E10/E$6 -> 0.0085932902 | G10: 0.84188757 | H10: =1/G10 -> 1.1878071 | I10: =H10/$H$6 -> 0.012766698 | J10: 1 | K10: =J10/J$6 -> 0.010752688 | L10: =D10*0.3+F10*0.3++I10*0.3+K10*0.1 -> 0.009211436 | M10: =$M$6*L10 -> 42.925292 | P10: =M10+O10+N10 -> 42.925292 | Q10: =ROUND(P10,0) -> 43 | R10: =Q10 -> 43
B11: 始兴县 | C11: 51195 | D11: =C11/C$6 -> 0.0050653945 | E11: 81 | F11: =E11/E$6 -> 0.0019070041 | G11: 0.86130181 | H11: =1/G11 -> 1.1610332 | I11: =H11/$H$6 -> 0.012478929 | J11: 1 | K11: =J11/J$6 -> 0.010752688 | L11: =D11*0.3+F11*0.3++I11*0.3+K11*0.1 -> 0.0069106672 | M11: =$M$6*L11 -> 32.203709 | P11: =M11+O11+N11 -> 32.203709 | Q11: =ROUND(P11,0) -> 32 | R11: =Q11 -> 32
B12: 新丰县 | C12: 49241 | D12: =C12/C$6 -> 0.0048720596 | E12: 324 | F12: =E12/E$6 -> 0.0076280165 | G12: 0.82017143 | H12: =1/G12 -> 1.2192573 | I12: =H12/$H$6 -> 0.013104729 | J12: 1 | K12: =J12/J$6 -> 0.010752688 | L12: =D12*0.3+F12*0.3++I12*0.3+K12*0.1 -> 0.0087567104 | M12: =$M$6*L12 -> 40.80627 | P12: =M12+O12+N12 -> 40.80627 | Q12: =ROUND(P12,0) -> 41 | R12: =Q12 -> 41
B13: 南雄市 | C13: 98118 | D13: =C13/C$6 -> 0.0097081039 | E13: 337 | F13: =E13/E$6 -> 0.0079340789 | G13: 0.79861716 | H13: =1/G13 -> 1.2521644 | I13: =H13/$H$6 -> 0.013458419 | J13: 2 | K13: =J13/J$6 -> 0.021505376 | L13: =D13*0.3+F13*0.3++I13*0.3+K13*0.1 -> 0.011480718 | M13: =$M$6*L13 -> 53.500147 | N13: 200 | O13: 1180 | P13: =M13+O13+N13 -> 1433.5001 | Q13: =ROUND(P13,0) -> 1434 | R13: =Q13 -> 1434
B14: 仁化县 | C14: 47536 | D14: =C14/C$6 -> 0.0047033615 | E14: 152 | F14: =E14/E$6 -> 0.0035785756 | G14: 0.9401081 | H14: =1/G14 -> 1.0637075 | I14: =H14/$H$6 -> 0.01143286 | J14: 1 | K14: =J14/J$6 -> 0.010752688 | L14: =D14*0.3+F14*0.3++I14*0.3+K14*0.1 -> 0.006989708 | M14: =$M$6*L14 -> 32.572039 | P14: =M14+O14+N14 -> 32.572039 | Q14: =ROUND(P14,0) -> 33 | R14: =Q14 -> 33
B15: 乳源县 | C15: 42011 | D15: =C15/C$6 -> 0.0041567006 | E15: 186 | F15: =E15/E$6 -> 0.0043790465 | G15: 1.0437939 | H15: =1/G15 -> 0.95804355 | I15: =H15/$H$6 -> 0.010297171 | J15: 1 | K15: =J15/J$6 -> 0.010752688 | L15: =D15*0.3+F15*0.3++I15*0.3+K15*0.1 -> 0.0067251443 | M15: =$M$6*L15 -> 31.339173 | P15: =M15+O15+N15 -> 31.339173 | Q15: =ROUND(P15,0) -> 31 | R15: =Q15 -> 31
B16: 翁源县 | C16: 74277 | D16: =C16/C$6 -> 0.0073492003 | E16: 378 | F16: =E16/E$6 -> 0.0088993526 | G16: 0.75673684 | H16: =1/G16 -> 1.3214634 | I16: =H16/$H$6 -> 0.014203253 | J16: 1 | K16: =J16/J$6 -> 0.010752688 | L16: =D16*0.3+F16*0.3++I16*0.3+K16*0.1 -> 0.01021081 | M16: =$M$6*L16 -> 47.582377 | P16: =M16+O16+N16 -> 47.582377 | Q16: =ROUND(P16,0) -> 48 | R16: =Q16 -> 48
A17: 河源市 | B17: 源城区 | C17: 47284 | D17: =C17/C$6 -> 0.0046784278 | E17: 230 | F17: =E17/E$6 -> 0.00541495 | G17: 0.80607401 | H17: =1/G17 -> 1.2405809 | I17: =H17/$H$6 -> 0.013333918 | J17: 1 | K17: =J17/J$6 -> 0.010752688 | L17: =D17*0.3+F17*0.3++I17*0.3+K17*0.1 -> 0.0081034575 | M17: =$M$6*L17 -> 37.762112 | P17: =M17+O17+N17 -> 37.762112 | Q17: =ROUND(P17,0) -> 38 | R17: =Q17 -> 38
B18: 和平县 | C18: 95554 | D18: =C18/C$6 -> 0.0094544136 | E18: 266 | F18: =E18/E$6 -> 0.0062625074 | G18: 0.70210287 | H18: =1/G18 -> 1.4242927 | I18: =H18/$H$6 -> 0.015308475 | J18: 2 | K18: =J18/J$6 -> 0.021505376 | L18: =D18*0.3+F18*0.3++I18*0.3+K18*0.1 -> 0.011458157 | M18: =$M$6*L18 -> 53.395009 | P18: =M18+O18+N18 -> 53.395009 | Q18: =ROUND(P18,0) -> 53 | R18: =Q18 -> 53
B19: 东源县 | C19: 103688 | D19: =C19/C$6 -> 0.010259217 | E19: 1102 | F19: =E19/E$6 -> 0.025944673 | G19: 0.91125341 | H19: =1/G19 -> 1.0973896 | I19: =H19/$H$6 -> 0.01179488 | J19: 1 | K19: =J19/J$6 -> 0.010752688 | L19: =D19*0.3+F19*0.3++I19*0.3+K19*0.1 -> 0.0154749 | M19: =$M$6*L19 -> 72.113034 | N19: 200 | O19: 126 | P19: =M19+O19+N19 -> 398.11303 | Q19: =ROUND(P19,0) -> 398 | R19: =Q19 -> 398
B20: 紫金县 | C20: 149023 | D20: =C20/C$6 -> 0.014744805 | E20: 809 | F20: =E20/E$6 -> 0.019046498 | G20: 0.61819596 | H20: =1/G20 -> 1.6176101 | I20: =H20/$H$6 -> 0.017386274 | J20: 2 | K20: =J20/J$6 -> 0.021505376 | L20: =D20*0.3+F20*0.3++I20*0.3+K20*0.1 -> 0.017503811 | M20: =$M$6*L20 -> 81.567758 | P20: =M20+O20+N20 -> 81.567758 | Q20: =ROUND(P20,0) -> 82 | R20: =Q20 -> 82
B21: 龙川县 | C21: 172226 | D21: =C21/C$6 -> 0.017040583 | E21: 1783 | F21: =E21/E$6 -> 0.041977634 | G21: 0.72649127 | H21: =1/G21 -> 1.376479 | I21: =H21/$H$6 -> 0.014794568 | J21: 2 | K21: =J21/J$6 -> 0.021505376 | L21: =D21*0.3+F21*0.3++I21*0.3+K21*0.1 -> 0.024294373 | M21: =$M$6*L21 -> 113.21178 | O21: 530 | P21: =M21+O21+N21 -> 643.21178 | Q21: =ROUND(P21,0) -> 643 | R21: =Q21 -> 643
B22: 连平县 | C22: 76894 | D22: =C22/C$6 -> 0.0076081345 | E22: 841 | F22: =E22/E$6 -> 0.019799882 | G22: 0.67550326 | H22: =1/G22 -> 1.4803778 | I22: =H22/$H$6 -> 0.015911284 | J22: 2 | K22: =J22/J$6 -> 0.021505376 | L22: =D22*0.3+F22*0.3++I22*0.3+K22*0.1 -> 0.015146328 | M22: =$M$6*L22 -> 70.581888 | N22: 200 | P22: =M22+O22+N22 -> 270.58189 | Q22: =ROUND(P22,0) -> 271 | R22: =Q22 -> 271
A23: 梅州市 | B23: 梅江区 | C23: 83187 | D23: =C23/C$6 -> 0.0082307837 | E23: 421 | F23: =E23/E$6 -> 0.0099117128 | G23: 0.76903508 | H23: =1/G23 -> 1.3003308 | I23: =H23/$H$6 -> 0.013976117 | J23: 2 | K23: =J23/J$6 -> 0.021505376 | L23: =D23*0.3+F23*0.3++I23*0.3+K23*0.1 -> 0.011786122 | M23: =$M$6*L23 -> 54.923327 | P23: =M23+O23+N23 -> 54.923327 | Q23: =ROUND(P23,0) -> 55 | R23: =Q23 -> 55
B24: 梅县区 | C24: 140641 | D24: =C24/C$6 -> 0.013915463 | E24: 588 | F24: =E24/E$6 -> 0.013843437 | G24: 0.97829836 | H24: =1/G24 -> 1.0221831 | I24: =H24/$H$6 -> 0.010986551 | J24: 2 | K24: =J24/J$6 -> 0.021505376 | L24: =D24*0.3+F24*0.3++I24*0.3+K24*0.1 -> 0.013774173 | M24: =$M$6*L24 -> 64.187646 | N24: 200 | O24: 3169 | P24: =M24+O24+N24 -> 3433.1876 | Q24: =ROUND(P24,0) -> 3433 | R24: 3432
B25: 平远县 | C25: 53737 | D25: =C25/C$6 -> 0.005316908 | E25: 337 | F25: =E25/E$6 -> 0.0079340789 | G25: 0.99086895 | H25: =1/G25 -> 1.0092152 | I25: =H25/$H$6 -> 0.01084717 | J25: 2 | K25: =J25/J$6 -> 0.021505376 | L25: =D25*0.3+F25*0.3++I25*0.3+K25*0.1 -> 0.0093799848 | M25: =$M$6*L25 -> 43.710729 | P25: =M25+O25+N25 -> 43.710729 | Q25: =ROUND(P25,0) -> 44 | R25: =Q25 -> 44
B26: 蕉岭县 | C26: 58001 | D26: =C26/C$6 -> 0.0057388016 | E26: 338 | F26: =E26/E$6 -> 0.0079576221 | G26: 1.079028 | H26: =1/G26 -> 0.92676005 | I26: =H26/$H$6 -> 0.0099609323 | J26: 2 | K26: =J26/J$6 -> 0.021505376 | L26: =D26*0.3+F26*0.3++I26*0.3+K26*0.1 -> 0.0092477444 | M26: =$M$6*L26 -> 43.094489 | N26: 200 | P26: =M26+O26+N26 -> 243.09449 | Q26: =ROUND(P26,0) -> 243 | R26: =Q26 -> 243
B27: 兴宁市 | C27: 238694 | D27: =C27/C$6 -> 0.023617136 | E27: 1254 | F27: =E27/E$6 -> 0.029523249 | G27: 0.74819408 | H27: =1/G27 -> 1.3365516 | I27: =H27/$H$6 -> 0.014365423 | J27: 2 | K27: =J27/J$6 -> 0.021505376 | L27: =D27*0.3+F27*0.3++I27*0.3+K27*0.1 -> 0.02240228 | M27: =$M$6*L27 -> 104.39462 | P27: =M27+O27+N27 -> 104.39462 | Q27: =ROUND(P27,0) -> 104 | R27: =Q27 -> 104
B28: 五华县 | C28: 220438 | D28: =C28/C$6 -> 0.02181083 | E28: 551 | F28: =E28/E$6 -> 0.012972337 | G28: 0.74648492 | H28: =1/G28 -> 1.3396118 | I28: =H28/$H$6 -> 0.014398314 | J28: 2 | K28: =J28/J$6 -> 0.021505376 | L28: =D28*0.3+F28*0.3++I28*0.3+K28*0.1 -> 0.016904982 | M28: =$M$6*L28 -> 78.777216 | P28: =M28+O28+N28 -> 78.777216 | Q28: =ROUND(P28,0) -> 79 | R28: =Q28 -> 79
B29: 丰顺县 | C29: 146197 | D29: =C29/C$6 -> 0.014465192 | E29: 975 | F29: =E29/E$6 -> 0.022954679 | G29: 0.69890627 | H29: =1/G29 -> 1.430807 | I29: =H29/$H$6 -> 0.015378492 | J29: 2 | K29: =J29/J$6 -> 0.021505376 | L29: =D29*0.3+F29*0.3++I29*0.3+K29*0.1 -> 0.017990046 | M29: =$M$6*L29 -> 83.833616 | O29: 981 | P29: =M29+O29+N29 -> 1064.8336 | Q29: =ROUND(P29,0) -> 1065 | R29: =Q29 -> 1065
B30: 大埔县 | C30: 119328 | D30: =C30/C$6 -> 0.011806688 | E30: 511 | F30: =E30/E$6 -> 0.012030606 | G30: 0.74055767 | H30: =1/G30 -> 1.3503337 | I30: =H30/$H$6 -> 0.014513555 | J30: 2 | K30: =J30/J$6 -> 0.021505376 | L30: =D30*0.3+F30*0.3++I30*0.3+K30*0.1 -> 0.013655792 | M30: =$M$6*L30 -> 63.635993 | P30: =M30+O30+N30 -> 63.635993 | Q30: =ROUND(P30,0) -> 64 | R30: =Q30 -> 64
A31: 惠州市 | B31: 惠城区 | C31: 157904 | D31: =C31/C$6 -> 0.015623519 | E31: 333 | F31: =E31/E$6 -> 0.0078399058 | G31: 0.96234868 | H31: =1/G31 -> 1.0391244 | I31: =H31/$H$6 -> 0.011168638 | J31: 1 | K31: =J31/J$6 -> 0.010752688 | L31: =D31*0.3+F31*0.3++I31*0.3+K31*0.1 -> 0.011464888 | M31: =$M$6*L31 -> 53.426377 | P31: =M31+O31+N31 -> 53.426377 | Q31: =ROUND(P31,0) -> 53 | R31: =Q31 -> 53
B32: 惠阳区 | C32: 74002 | D32: =C32/C$6 -> 0.0073219909 | E32: 86 | F32: =E32/E$6 -> 0.0020247204 | G32: 1.5147024 | H32: =1/G32 -> 0.66019567 | I32: =H32/$H$6 -> 0.0070958653 | J32: 1 | K32: =J32/J$6 -> 0.010752688 | L32: =D32*0.3+F32*0.3++I32*0.3+K32*0.1 -> 0.0060080418 | M32: =$M$6*L32 -> 27.997475 | P32: =M32+O32+N32 -> 27.997475 | Q32: =ROUND(P32,0) -> 28 | R32: =Q32 -> 28
B33: 惠东县 | C33: 145363 | D33: =C33/C$6 -> 0.014382673 | E33: 527 | F33: =E33/E$6 -> 0.012407298 | G33: 1.2352828 | H33: =1/G33 -> 0.80953122 | I33: =H33/$H$6 -> 0.0087009423 | J33: 2 | K33: =J33/J$6 -> 0.021505376 | L33: =D33*0.3+F33*0.3++I33*0.3+K33*0.1 -> 0.012797812 | M33: =$M$6*L33 -> 59.637803 | O33: 1350 | P33: =M33+O33+N33 -> 1409.6378 | Q33: =ROUND(P33,0) -> 1410 | R33: =Q33 -> 1410
B34: 龙门县 | C34: 66175 | D34: =C34/C$6 -> 0.0065475629 | E34: 262 | F34: =E34/E$6 -> 0.0061683343 | G34: 1.2548594 | H34: =1/G34 -> 0.79690204 | I34: =H34/$H$6 -> 0.0085652023 | J34: 1 | K34: =J34/J$6 -> 0.010752688 | L34: =D34*0.3+F34*0.3++I34*0.3+K34*0.1 -> 0.0074595987 | M34: =$M$6*L34 -> 34.76173 | P34: =M34+O34+N34 -> 34.76173 | Q34: =ROUND(P34,0) -> 35 | R34: =Q34 -> 35
A35: 汕尾市 | B35: 城区 | C35: 88546 | D35: =C35/C$6 -> 0.00876102 | E35: 441 | F35: =E35/E$6 -> 0.010382578 | G35: 0.70523326 | H35: =1/G35 -> 1.4179706 | I35: =H35/$H$6 -> 0.015240524 | J35: 2 | K35: =J35/J$6 -> 0.021505376 | L35: =D35*0.3+F35*0.3++I35*0.3+K35*0.1 -> 0.012465774 | M35: =$M$6*L35 -> 58.090508 | O35: 60 | P35: =M35+O35+N35 -> 118.09051 | Q35: =ROUND(P35,0) -> 118 | R35: =Q35 -> 118
B36: 陆河县 | C36: 53678 | D36: =C36/C$6 -> 0.0053110703 | E36: 200 | F36: =E36/E$6 -> 0.0047086521 | G36: 0.77760949 | H36: =1/G36 -> 1.2859925 | I36: =H36/$H$6 -> 0.013822008 | J36: 2 | K36: =J36/J$6 -> 0.021505376 | L36: =D36*0.3+F36*0.3++I36*0.3+K36*0.1 -> 0.0093030568 | M36: =$M$6*L36 -> 43.352244 | N36: 200 | P36: =M36+O36+N36 -> 243.35224 | Q36: =ROUND(P36,0) -> 243 | R36: =Q36 -> 243
B37: 陆丰市 | C37: 255097 | D37: =C37/C$6 -> 0.0252401 | E37: 2686 | F37: =E37/E$6 -> 0.063237198 | G37: 0.69041281 | H37: =1/G37 -> 1.4484088 | I37: =H37/$H$6 -> 0.015567678 | J37: 2 | K37: =J37/J$6 -> 0.021505376 | L37: =D37*0.3+F37*0.3++I37*0.3+K37*0.1 -> 0.033364031 | M37: =$M$6*L37 -> 155.47638 | N37: 200 | P37: =M37+O37+N37 -> 355.47638 | Q37: =ROUND(P37,0) -> 355 | R37: =Q37 -> 355
B38: 海丰县 | C38: 141409 | D38: =C38/C$6 -> 0.013991452 | E38: 417 | F38: =E38/E$6 -> 0.0098175397 | G38: 0.84093196 | H38: =1/G38 -> 1.1891568 | I38: =H38/$H$6 -> 0.012781206 | J38: 2 | K38: =J38/J$6 -> 0.021505376 | L38: =D38*0.3+F38*0.3++I38*0.3+K38*0.1 -> 0.013127597 | M38: =$M$6*L38 -> 61.174601 | P38: =M38+O38+N38 -> 61.174601 | Q38: =ROUND(P38,0) -> 61 | R38: =Q38 -> 61
A39: 阳江市 | B39: 阳东区 | C39: 99528 | D39: =C39/C$6 -> 0.0098476137 | E39: 1608 | F39: =E39/E$6 -> 0.037857563 | G39: 0.91877129 | H39: =1/G39 -> 1.0884102 | I39: =H39/$H$6 -> 0.011698368 | J39: 1 | K39: =J39/J$6 -> 0.010752688 | L39: =D39*0.3+F39*0.3++I39*0.3+K39*0.1 -> 0.018896332 | M39: =$M$6*L39 -> 88.056908 | P39: =M39+O39+N39 -> 88.056908 | Q39: =ROUND(P39,0) -> 88 | R39: =Q39 -> 88
B40: 阳西县 | C40: 102247 | D40: =C40/C$6 -> 0.01011664 | E40: 1212 | F40: =E40/E$6 -> 0.028534432 | G40: 0.77881576 | H40: =1/G40 -> 1.2840007 | I40: =H40/$H$6 -> 0.0138006 | J40: 1 | K40: =J40/J$6 -> 0.010752688 | L40: =D40*0.3+F40*0.3++I40*0.3+K40*0.1 -> 0.01681077 | M40: =$M$6*L40 -> 78.33819 | N40: 200 | P40: =M40+O40+N40 -> 278.33819 | Q40: =ROUND(P40,0) -> 278 | R40: =Q40 -> 278
...

Sheet 附件2-2资金下达表
A1: 附件2-2
A2: 年中下达2024年中央专项彩票公益金支持 地方社会公益事业发展资金分配表
C3: 单位：万元
A4: 地区 | B4: 本次下达金额 | C4: 备注
A5: 下达总额 | B5: =B6+B10+B12+B13+B14+B15+B16+B17+B18+B20+B21+B22+B23+B24+B25+B28+B29+B30+B31+B32+B33+B34+B37+B38+B39+B41+B42+B43+B44+B46+B47+B48+B52+B53+B54+B55+B56+B57+B60+B61+B62+B63+B64+B65+B66+B67+B68+B70+B71+B72+B73+B74+B77+B78+B80+B81+B82+B83+B86+B87+B88 -> 16884
A6: 汕头市合计 | B6: =SUM(B7:B9) -> 205
A7: 澄海区 | B7: =VLOOKUP(A7,附件1、资金分配测算表!B:R,17,FALSE) -> 51
A8: 潮阳区 | B8: =VLOOKUP(A8,附件1、资金分配测算表!B:R,17,FALSE) -> 85
A9: 潮南区 | B9: =VLOOKUP(A9,附件1、资金分配测算表!B:R,17,FALSE) -> 69
A10: 韶关市合计 | B10: =SUM(B11:B11) -> 43
A11: 曲江区 | B11: =VLOOKUP(A11,附件1、资金分配测算表!B:R,17,FALSE) -> 43
A12: 南雄市 | B12: =VLOOKUP(A12,附件1、资金分配测算表!B:R,17,FALSE) -> 1434 | C12: 含南雄市珠玑综合养老服务中心建设项目800万元及南雄市珠玑综合养老服务中心附属楼建设项目380万元、问题整治200万元
A13: 仁化县 | B13: =VLOOKUP(A13,附件1、资金分配测算表!B:R,17,FALSE) -> 33
A14: 始兴县 | B14: =VLOOKUP(A14,附件1、资金分配测算表!B:R,17,FALSE) -> 32
A15: 翁源县 | B15: =VLOOKUP(A15,附件1、资金分配测算表!B:R,17,FALSE) -> 48
A16: 新丰县 | B16: =VLOOKUP(A16,附件1、资金分配测算表!B:R,17,FALSE) -> 41
A17: 乳源县 | B17: =VLOOKUP(A17,附件1、资金分配测算表!B:R,17,FALSE) -> 31
A18: 河源市合计 | B18: =SUM(B19:B19) -> 38
A19: 源城区 | B19: =VLOOKUP(A19,附件1、资金分配测算表!B:R,17,FALSE) -> 38
A20: 东源县 | B20: =VLOOKUP(A20,附件1、资金分配测算表!B:R,17,FALSE) -> 398 | C20: 含东源县顺天镇社区综合养老服务中心及长者饭堂项目126万元、问题整治200万元
A21: 和平县 | B21: =VLOOKUP(A21,附件1、资金分配测算表!B:R,17,FALSE) -> 53
A22: 龙川县 | B22: =VLOOKUP(A22,附件1、资金分配测算表!B:R,17,FALSE) -> 643 | C22: 含龙川县赤光、上坪、四都、龙母镇敬老院消防升级改造工程99万元及龙川县龙母镇敬老院扩建工程383万元及铁场镇敬老院升级改造48万元
A23: 紫金县 | B23: =VLOOKUP(A23,附件1、资金分配测算表!B:R,17,FALSE) -> 82
A24: 连平县 | B24: =VLOOKUP(A24,附件1、资金分配测算表!B:R,17,FALSE) -> 271 | C24: 含问题整治200万元
A25: 梅州市合计 | B25: =SUM(B26:B27) -> 3487
A26: 梅县区 | B26: =VLOOKUP(A26,附件1、资金分配测算表!B:R,17,FALSE) -> 3432 | C26: 含梅县区水车镇综合养老服务中心改扩建项目2497万元及丙村镇综合养老服务中心672万元、问题整治200万元
A27: 梅江区 | B27: =VLOOKUP(A27,附件1、资金分配测算表!B:R,17,FALSE) -> 55
A28: 兴宁市 | B28: =VLOOKUP(A28,附件1、资金分配测算表!B:R,17,FALSE) -> 104
A29: 平远县 | B29: =VLOOKUP(A29,附件1、资金分配测算表!B:R,17,FALSE) -> 44
A30: 蕉岭县 | B30: =VLOOKUP(A30,附件1、资金分配测算表!B:R,17,FALSE) -> 243 | C30: 含问题整治200万元
A31: 大埔县 | B31: =VLOOKUP(A31,附件1、资金分配测算表!B:R,17,FALSE) -> 64
A32: 丰顺县 | B32: =VLOOKUP(A32,附件1、资金分配测算表!B:R,17,FALSE) -> 1065 | C32: 含丰顺县公办养老机构改造升级项目981万元
A33: 五华县 | B33: =VLOOKUP(A33,附件1、资金分配测算表!B:R,17,FALSE) -> 79
A34: 惠州市合计 | B34: =SUM(B35:B36) -> 81
A35: 惠城区 | B35: =VLOOKUP(A35,附件1、资金分配测算表!B:R,17,FALSE) -> 53
A36: 惠阳区 | B36: =VLOOKUP(A36,附件1、资金分配测算表!B:R,17,FALSE) -> 28
A37: 惠东县 | B37: =VLOOKUP(A37,附件1、资金分配测算表!B:R,17,FALSE) -> 1410 | C37: 含惠东县九龙峰综合养老服务中心项目750万元及惠东县黄埠镇盐洲综合养老服务中心项目600万元
A38: 龙门县 | B38: =VLOOKUP(A38,附件1、资金分配测算表!B:R,17,FALSE) -> 35
A39: 汕尾市合计 | B39: =SUM(B40:B40) -> 118
A40: 城区 | B40: =VLOOKUP(A40,附件1、资金分配测算表!B:R,17,FALSE) -> 118 | C40: 含养老服务体系建设项目（凤山街道综合养老服务中心示范点改造项目）60万元
...

Sheet 附件6、支出计划表
A1: 附件6
A2: 资金支出计划表
N3: 单位：万元
A4: 序号 | B4: 申报单位（处室） | C4: 项目名称 | D4: 申请金额 | E4: 1—3月累计支出计划 | F4: 1—4月累计支出计划 | G4: 1—5月累计支出计划 | H4: 1—6月累计支出计划 | I4: 1—7月累计支出计划 | J4: 1—8月累计支出计划 | K4: 1—9月累计支出计划 | L4: 1—10月累计支出计划 | M4: 1—11月累计支出计划 | N4: 1—12月累计支出计划 | O4: 备注
A5: 1 | B5: 养老服务处 | C5: 2024年中央专项彩票公益金支持地方社会公益事业发展增量资金 | D5: 16884 | E5: 0 | F5: 0 | G5: 0 | H5: 2412 | I5: 4824 | J5: 7236 | K5: 9648 | L5: 12060 | M5: 14472 | N5: 16884
E7: =D13*3 -> 2532.6 | F7: =E7+D13 -> 3376.8 | G7: =F7+D13 -> 4221 | H7: =G7+D13 -> 5065.2 | I7: =H7+F13 -> 7035 | J7: =I7+F13 -> 9004.8 | K7: =J7+F13 -> 10974.6 | L7: =K7+F13 -> 12944.4 | M7: =L7+F13 -> 14914.2 | N7: =M7+F13 -> 16884
D8: 上半年 | F8: 下半年
D9: =D5*0.3 -> 5065.2 | F9: =D5*0.7 -> 11818.8 | L9: =D5/7 -> 2412 | M9: 2412
H10: =$M9*1 -> 2412 | I10: =H10+$M9 -> 4824 | J10: =I10+$M9 -> 7236 | K10: =J10+$M9 -> 9648 | L10: =K10+$M9 -> 12060 | M10: =L10+$M9 -> 14472 | N10: =M10+$M9 -> 16884
D11: =D9/6 -> 844.2 | F11: =F9/6 -> 1969.8
C13: 每月 | D13: 844.2 | F13: 1969.8
