Workbook

Sheet 附件1、资金分配测算表
A1: 附件2-1
A2: 2024年中央专项彩票公益金支持地方社会公益事业发展增量资金分配测算表
A3: 地区 | C3: 2023年60岁及以上老年人数 | D3: 2023年60岁及以上老年人数系数 | E3: 特困人员中失能、部分失能人员数 | F3: 特困人员中失能、部分失能人员系数 | G3: 2022年财力综合系数 | H3: 2022年财力综合系数倒数 | I3: 2022年财力综合系数因素 | J3: 重点老区苏区和其他老区（重点2、其他1） | K3: 重点老区苏区和其他老区数 | L3: 2023年60岁及以上老年人数系数：特困人员中失能、部分失能人员系数：2022年财力综合系数因素：重点老区苏区和其他老区系数=3:3:3：1 | M3: 测算下达金额 | N3: 被巡视的23个县区（每个县区按200万元定额） | O3: 重点工程建设项目（新增床位按每张15万元，升级改造床位数按每张3万元，消防安全改造按400元每平方米） | P3: 下达资金 | Q3: 下达资金取整 | R3: 实际下达资金（对超出的1万元，从给予资金支持最多的梅县区进行调减）
A4: 单位 | C4: 人 | E4: 人 | J4: 个 | M4: 万元 | N4: 万元 | O4: 万元 | P4: 万元 | Q4: 万元 | R4: 万元
A5: 栏目 | C5: 1 | D5: 2 | E5: 3 | F5: 4 | G5: 5 | H5: 6 | I5: 7 | J5: 8 | K5: 9 | L5: 10 | M5: 11 | N5: 12 | O5: 13 | P5: 14 | Q5: 15 | R5: 16
A6: 合计 | C6: =SUM(C7:C75) -> 10106814 | D6: =SUM(D7:D75) -> 1 | E6: =SUM(E7:E75) -> 42475 | F6: =SUM(F7:F75) -> 1 | G6: =SUM(G7:G75) -> 53.333053 | H6: =SUM(H7:H75) -> 93.039488 | I6: =SUM(I7:I75) -> 1 | J6: =SUM(J7:J75) -> 93 | ... L6: =SUM(L7:L75) -> 1 | M6: 4660 | N6: =SUM(N7:N75) -> 4600 | O6: =SUM(O7:O75) -> 7624 | P6: =SUM(P7:P75) -> 16884 | Q6: =SUM(Q7:Q75) -> 16885 | R6: =SUM(R7:R75) -> 16884
A7: 汕头市 | B7: 潮阳区 | C7: 273692 | D7: =C7/C$6 -> 0.027079948 | E7: 400 | F7: =E7/E$6 -> 0.0094173043 | G7: 0.6359518 | H7: =1/G7 -> 1.5724462 | I7: =H7/$H$6 -> 0.016900848 | J7: 2 | K7: =J7/J$6 -> 0.021505376 | L7: =D7*0.3+F7*0.3++I7*0.3+K7*0.1 -> 0.018169968 | M7: =$M$6*L7 -> 84.672049 | P7: =M7+O7+N7 -> 84.672049 | Q7: =ROUND(P7,0) -> 85 | R7: =Q7 -> 85
B8: 潮南区 | C8: 204335 | D8: =C8/C$6 -> 0.020217548 | E8: 133 | F8: =E8/E$6 -> 0.0031312537 | G8: 0.56640943 | H8: =1/G8 -> 1.7655073 | I8: =H8/$H$6 -> 0.018975893 | J8: 2 | K8: =J8/J$6 -> 0.021505376 | L8: =D8*0.3+F8*0.3++I8*0.3+K8*0.1 -> 0.014847946 | M8: =$M$6*L8 -> 69.191428 | P8: =M8+O8+N8 -> 69.191428 | Q8: =ROUND(P8,0) -> 69 | R8: =Q8 -> 69
B9: 澄海区 | C9: 172332 | D9: =C9/C$6 -> 0.017051071 | E9: 38 | F9: =E9/E$6 -> 0.00089464391 | G9: 0.71600375 | H9: =1/G9 -> 1.3966407 | I9: =H9/$H$6 -> 0.015011268 | J9: 1 | K9: =J9/J$6 -> 0.010752688 | L9: =D9*0.3+F9*0.3++I9*0.3+K9*0.1 -> 0.010962364 | M9: =$M$6*L9 -> 51.084615 | P9: =M9+O9+N9 -> 51.084615 | Q9: =ROUND(P9,0) -> 51 | R9: =Q9 -> 51
A10: 韶关市 | B10: 曲江区 | C10: 58221 | D10: =C10/C$6 -> 0.0057605691 | E10: 365 | F10: =E10/E$6 -> 0.0085932902 | G10: 0.84188757 | H10: =1/G10 -> 1.1878071 | I10: =H10/$H$6 -> 0.012766698 | J10: 1 | K10: =J10/J$6 -> 0.010752688 | L10: =D10*0.3+F10*0.3++I10*0.3+K10*0.1 -> 0.009211436 | M10: =$M$6*L10 -> 42.925292 | P10: =M10+O10+N10 -> 42.925292 | Q10: =ROUND(P10,0) -> 43 | R10: =Q10 -> 43
B11: 始兴县 | C11: 51195 | D11: =C11/C$6 -> 0.0050653945 | E11: 81 | F11: =E11/E$6 -> 0.0019070041 | G11: 0.86130181 | H11: =1/G11 -> 1.1610332 | I11: =H11/$H$6 -> 0.012478929 | J11: 1 | K11: =J11/J$6 -> 0.010752688 | L11: =D11*0.3+F11*0.3++I11*0.3+K11*0.1 -> 0.0069106672 | M11: =$M$6*L11 -> 32.203709 | P11: =M11+O11+N11 -> 32.203709 | Q11: =ROUND(P11,0) -> 32 | R11: =Q11 -> 32
B12: 新丰县 | C12: 49241 | D12: =C12/C$6 -> 0.0048720596 | E12: 324 | F12: =E12/E$6 -> 0.0076280165 | G12: 0.82017143 | H12: =1/G12 -> 1.2192573 | I12: =H12/$H$6 -> 0.013104729 | J12: 1 | K12: =J12/J$6 -> 0.010752688 | L12: =D12*0.3+F12*0.3++I12*0.3+K12*0.1 -> 0.0087567104 | M12: =$M$6*L12 -> 40.80627 | P12: =M12+O12+N12 -> 40.80627 | Q12: =ROUND(P12,0) -> 41 | R12: =Q12 -> 41
B13: 南雄市 | C13: 98118 | D13: =C13/C$6 -> 0.0097081039 | E13: 337 | F13: =E13/E$6 -> 0.0079340789 | G13: 0.79861716 | H13: =1/G13 -> 1.2521644 | I13: =H13/$H$6 -> 0.013458419 | J13: 2 | K13: =J13/J$6 -> 0.021505376 | L13: =D13*0.3+F13*0.3++I13*0.3+K13*0.1 -> 0.011480718 | M13: =$M$6*L13 -> 53.500147 | N13: 200 | O13: 1180 | P13: =M13+O13+N13 -> 1433.5001 | Q13: =ROUND(P13,0) -> 1434 | R13: =Q13 -> 1434
B14: 仁化县 | C14: 47536 | D14: =C14/C$6 -> 0.0047033615 | E14: 152 | F14: =E14/E$6 -> 0.0035785756 | G14: 0.9401081 | H14: =1/G14 -> 1.0637075 | I14: =H14/$H$6 -> 0.01143286 | J14: 1 | K14: =J14/J$6 -> 0.010752688 | L14: =D14*0.3+F14*0.3++I14*0.3+K14*0.1 -> 0.006989708 | M14: =$M$6*L14 -> 32.572039 | P14: =M14+O14+N14 -> 32.572039 | Q14: =ROUND(P14,0) -> 33 | R14: =Q14 -> 33
B15: 乳源县 | C15: 42011 | D15: =C15/C$6 -> 0.0041567006 | E15: 186 | F15: =E15/E$6 -> 0.0043790465 | G15: 1.0437939 | H15: =1/G15 -> 0.95804355 | I15: =H15/$H$6 -> 0.010297171 | J15: 1 | K15: =J15/J$6 -> 0.010752688 | L15: =D15*0.3+F15*0.3++I15*0.3+K15*0.1 -> 0.0067251443 | M15: =$M$6*L15 -> 31.339173 | P15: =M15+O15+N15 -> 31.339173 | Q15: =ROUND(P15,0) -> 31 | R15: =Q15 -> 31
B16: 翁源县 | C16: 74277 | D16: =C16/C$6 -> 0.0073492003 | E16: 378 | F16: =E16/E$6 -> 0.0088993526 | G16: 0.75673684 | H16: =1/G16 -> 1.3214634 | I16: =H16/$H$6 -> 0.014203253 | J16: 1 | K16: =J16/J$6 -> 0.010752688 | L16: =D16*0.3+F16*0.3++I16*0.3+K16*0.1 -> 0.01021081 | M16: =$M$6*L16 -> 47.582377 | P16: =M16+O16+N16 -> 47.582377 | Q16: =ROUND(P16,0) -> 48 | R16: =Q16 -> 48
A17: 河源市 | B17: 源城区 | C17: 47284 | D17: =C17/C$6 -> 0.0046784278 | E17: 230 | F17: =E17/E$6 -> 0.00541495 | G17: 0.80607401 | H17: =1/G17 -> 1.2405809 | I17: =H17/$H$6 -> 0.013333918 | J17: 1 | K17: =J17/J$6 -> 0.010752688 | L17: =D17*0.3+F17*0.3++I17*0.3+K17*0.1 -> 0.0081034575 | M17: =$M$6*L17 -> 37.762112 | P17: =M17+O17+N17 -> 37.762112 | Q17: =ROUND(P17,0) -> 38 | R17: =Q17 -> 38
B18: 和平县 | C18: 95554 | D18: =C18/C$6 -> 0.0094544136 | E18: 266 | F18: =E18/E$6 -> 0.0062625074 | G18: 0.70210287 | H18: =1/G18 -> 1.4242927 | I18: =H18/$H$6 -> 0.015308475 | J18: 2 | K18: =J18/J$6 -> 0.021505376 | L18: =D18*0.3+F18*0.3++I18*0.3+K18*0.1 -> 0.011458157 | M18: =$M$6*L18 -> 53.395009 | P18: =M18+O18+N18 -> 53.395009 | Q18: =ROUND(P18,0) -> 53 | R18: =Q18 -> 53
B19: 东源县 | C19: 103688 | D19: =C19/C$6 -> 0.010259217 | E19: 1102 | F19: =E19/E$6 -> 0.025944673 | G19: 0.91125341 | H19: =1/G19 -> 1.0973896 | I19: =H19/$H$6 -> 0.01179488 | J19: 1 | K19: =J19/J$6 -> 0.010752688 | L19: =D19*0.3+F19*0.3++I19*0.3+K19*0.1 -> 0.0154749 | M19: =$M$6*L19 -> 72.113034 | N19: 200 | O19: 126 | P19: =M19+O19+N19 -> 398.11303 | Q19: =ROUND(P19,0) -> 398 | R19: =Q19 -> 398
B20: 紫金县 | C20: 149023 | D20: =C20/C$6 -> 0.014744805 | E20: 809 | F20: =E20/E$6 -> 0.019046498 | G20: 0.61819596 | H20: =1/G20 -> 1.6176101 | I20: =H20/$H$6 -> 0.017386274 | J20: 2 | K20: =J20/J$6 -> 0.021505376 | L20: =D20*0.3+F20*0.3++I20*0.3+K20*0.1 -> 0.017503811 | M20: =$M$6*L20 -> 81.567758 | P20: =M20+O20+N20 -> 81.567758 | Q20: =ROUND(P20,0) -> 82 | R20: =Q20 -> 82
B21: 龙川县 | C21: 172226 | D21: =C21/C$6 -> 0.017040583 | E21: 1783 | F21: =E21/E$6 -> 0.041977634 | G21: 0.72649127 | H21: =1/G21 -> 1.376479 | I21: =H21/$H$6 -> 0.014794568 | J21: 2 | K21: =J21/J$6 -> 0.021505376 | L21: =D21*0.3+F21*0.3++I21*0.3+K21*0.1 -> 0.024294373 | M21: =$M$6*L21 -> 113.21178 | O21: 530 | P21: =M21+O21+N21 -> 643.21178 | Q21: =ROUND(P21,0) -> 643 | R21: =Q21 -> 643
B22: 连平县 | C22: 76894 | D22: =C22/C$6 -> 0.0076081345 | E22: 841 | F22: =E22/E$6 -> 0.019799882 | G22: 0.67550326 | H22: =1/G22 -> 1.4803778 | I22: =H22/$H$6 -> 0.015911284 | J22: 2 | K22: =J22/J$6 -> 0.021505376 | L22: =D22*0.3+F22*0.3++I22*0.3+K22*0.1 -> 0.015146328 | M22: =$M$6*L22 -> 70.581888 | N22: 200 | P22: =M22+O22+N22 -> 270.58189 | Q22: =ROUND(P22,0) -> 271 | R22: =Q22 -> 271
A23: 梅州市 | B23: 梅江区 | C23: 83187 | D23: =C23/C$6 -> 0.0082307837 | E23: 421 | F23: =E23/E$6 -> 0.0099117128 | G23: 0.76903508 | H23: =1/G23 -> 1.3003308 | I23: =H23/$H$6 -> 0.013976117 | J23: 2 | K23: =J23/J$6 -> 0.021505376 | L23: =D23*0.3+F23*0.3++I23*0.3+K23*0.1 -> 0.011786122 | M23: =$M$6*L23 -> 54.923327 | P23: =M23+O23+N23 -> 54.923327 | Q23: =ROUND(P23,0) -> 55 | R23: =Q23 -> 55
B24: 梅县区 | C24: 140641 | D24: =C24/C$6 -> 0.013915463 | E24: 588 | F24: =E24/E$6 -> 0.013843437 | G24: 0.97829836 | H24: =1/G24 -> 1.0221831 | I24: =H24/$H$6 -> 0.010986551 | J24: 2 | K24: =J24/J$6 -> 0.021505376 | L24: =D24*0.3+F24*0.3++I24*0.3+K24*0.1 -> 0.013774173 | M24: =$M$6*L24 -> 64.187646 | N24: 200 | O24: 3169 | P24: =M24+O24+N24 -> 3433.1876 | Q24: =ROUND(P24,0) -> 3433 | R24: 3432
B25: 平远县 | C25: 53737 | D25: =C25/C$6 -> 0.005316908 | E25: 337 | F25: =E25/E$6 -> 0.0079340789 | G25: 0.99086895 | H25: =1/G25 -> 1.0092152 | I25: =H25/$H$6 -> 0.01084717 | J25: 2 | K25: =J25/J$6 -> 0.021505376 | L25: =D25*0.3+F25*0.3++I25*0.3+K25*0.1 -> 0.0093799848 | M25: =$M$6*L25 -> 43.710729 | P25: =M25+O25+N25 -> 43.710729 | Q25: =ROUND(P25,0) -> 44 | R25: =Q25 -> 44
B26: 蕉岭县 | C26: 58001 | D26: =C26/C$6 -> 0.0057388016 | E26: 338 | F26: =E26/E$6 -> 0.0079576221 | G26: 1.079028 | H26: =1/G26 -> 0.92676005 | I26: =H26/$H$6 -> 0.0099609323 | J26: 2 | K26: =J26/J$6 -> 0.021505376 | L26: =D26*0.3+F26*0.3++I26*0.3+K26*0.1 -> 0.0092477444 | M26: =$M$6*L26 -> 43.094489 | N26: 200 | P26: =M26+O26+N26 -> 243.09449 | Q26: =ROUND(P26,0) -> 243 | R26: =Q26 -> 243
B27: 兴宁市 | C27: 238694 | D27: =C27/C$6 -> 0.023617136 | E27: 1254 | F27: =E27/E$6 -> 0.029523249 | G27: 0.74819408 | H27: =1/G27 -> 1.3365516 | I27: =H27/$H$6 -> 0.014365423 | J27: 2 | K27: =J27/J$6 -> 0.021505376 | L27: =D27*0.3+F27*0.3++I27*0.3+K27*0.1 -> 0.02240228 | M27: =$M$6*L27 -> 104.39462 | P27: =M27+O27+N27 -> 104.39462 | Q27: =ROUND(P27,0) -> 104 | R27: =Q27 -> 104
B28: 五华县 | C28: 220438 | D28: =C28/C$6 -> 0.02181083 | E28: 551 | F28: =E28/E$6 -> 0.012972337 | G28: 0.74648492 | H28: =1/G28 -> 1.3396118 | I28: =H28/$H$6 -> 0.014398314 | J28: 2 | K28: =J28/J$6 -> 0.021505376 | L28: =D28*0.3+F28*0.3++I28*0.3+K28*0.1 -> 0.016904982 | M28: =$M$6*L28 -> 78.777216 | P28: =M28+O28+N28 -> 78.777216 | Q28: =ROUND(P28,0) -> 79 | R28: =Q28 -> 79
B29: 丰顺县 | C29: 146197 | D29: =C29/C$6 -> 0.014465192 | E29: 975 | F29: =E29/E$6 -> 0.022954679 | G29: 0.69890627 | H29: =1/G29 -> 1.430807 | I29: =H29/$H$6 -> 0.015378492 | J29: 2 | K29: =J29/J$6 -> 0.021505376 | L29: =D29*0.3+F29*0.3++I29*0.3+K29*0.1 -> 0.017990046 | M29: =$M$6*L29 -> 83.833616 | O29: 981 | P29: =M29+O29+N29 -> 1064.8336 | Q29: =ROUND(P29,0) -> 1065 | R29: =Q29 -> 1065
B30: 大埔县 | C30: 119328 | D30: =C30/C$6 -> 0.011806688 | E30: 511 | F30: =E30/E$6 -> 0.012030606 | G30: 0.74055767 | H30: =1/G30 -> 1.3503337 | I30: =H30/$H$6 -> 0.014513555 | J30: 2 | K30: =J30/J$6 -> 0.021505376 | L30: =D30*0.3+F30*0.3++I30*0.3+K30*0.1 -> 0.013655792 | M30: =$M$6*L30 -> 63.635993 | P30: =M30+O30+N30 -> 63.635993 | Q30: =ROUND(P30,0) -> 64 | R30: =Q30 -> 64
A31: 惠州市 | B31: 惠城区 | C31: 157904 | D31: =C31/C$6 -> 0.015623519 | E31: 333 | F31: =E31/E$6 -> 0.0078399058 | G31: 0.96234868 | H31: =1/G31 -> 1.0391244 | I31: =H31/$H$6 -> 0.011168638 | J31: 1 | K31: =J31/J$6 -> 0.010752688 | L31: =D31*0.3+F31*0.3++I31*0.3+K31*0.1 -> 0.011464888 | M31: =$M$6*L31 -> 53.426377 | P31: =M31+O31+N31 -> 53.426377 | Q31: =ROUND(P31,0) -> 53 | R31: =Q31 -> 53
B32: 惠阳区 | C32: 74002 | D32: =C32/C$6 -> 0.0073219909 | E32: 86 | F32: =E32/E$6 -> 0.0020247204 | G32: 1.5147024 | H32: =1/G32 -> 0.66019567 | I32: =H32/$H$6 -> 0.0070958653 | J32: 1 | K32: =J32/J$6 -> 0.010752688 | L32: =D32*0.3+F32*0.3++I32*0.3+K32*0.1 -> 0.0060080418 | M32: =$M$6*L32 -> 27.997475 | P32: =M32+O32+N32 -> 27.997475 | Q32: =ROUND(P32,0) -> 28 | R32: =Q32 -> 28
B33: 惠东县 | C33: 145363 | D33: =C33/C$6 -> 0.014382673 | E33: 527 | F33: =E33/E$6 -> 0.012407298 | G33: 1.2352828 | H33: =1/G33 -> 0.80953122 | I33: =H33/$H$6 -> 0.0087009423 | J33: 2 | K33: =J33/J$6 -> 0.021505376 | L33: =D33*0.3+F33*0.3++I33*0.3+K33*0.1 -> 0.012797812 | M33: =$M$6*L33 -> 59.637803 | O33: 1350 | P33: =M33+O33+N33 -> 1409.6378 | Q33: =ROUND(P33,0) -> 1410 | R33: =Q33 -> 1410
B34: 龙门县 | C34: 66175 | D34: =C34/C$6 -> 0.0065475629 | E34: 262 | F34: =E34/E$6 -> 0.0061683343 | G34: 1.2548594 | H34: =1/G34 -> 0.79690204 | I34: =H34/$H$6 -> 0.0085652023 | J34: 1 | K34: =J34/J$6 -> 0.010752688 | L34: =D34*0.3+F34*0.3++I34*0.3+K34*0.1 -> 0.0074595987 | M34: =$M$6*L34 -> 34.76173 | P34: =M34+O34+N34 -> 34.76173 | Q34: =ROUND(P34,0) -> 35 | R34: =Q34 -> 35
A35: 汕尾市 | B35: 城区 | C35: 88546 | D35: =C35/C$6 -> 0.00876102 | E35: 441 | F35: =E35/E$6 -> 0.010382578 | G35: 0.70523326 | H35: =1/G35 -> 1.4179706 | I35: =H35/$H$6 -> 0.015240524 | J35: 2 | K35: =J35/J$6 -> 0.021505376 | L35: =D35*0.3+F35*0.3++I35*0.3+K35*0.1 -> 0.012465774 | M35: =$M$6*L35 -> 58.090508 | O35: 60 | P35: =M35+O35+N35 -> 118.09051 | Q35: =ROUND(P35,0) -> 118 | R35: =Q35 -> 118
B36: 陆河县 | C36: 53678 | D36: =C36/C$6 -> 0.0053110703 | E36: 200 | F36: =E36/E$6 -> 0.0047086521 | G36: 0.77760949 | H36: =1/G36 -> 1.2859925 | I36: =H36/$H$6 -> 0.013822008 | J36: 2 | K36: =J36/J$6 -> 0.021505376 | L36: =D36*0.3+F36*0.3++I36*0.3+K36*0.1 -> 0.0093030568 | M36: =$M$6*L36 -> 43.352244 | N36: 200 | P36: =M36+O36+N36 -> 243.35224 | Q36: =ROUND(P36,0) -> 243 | R36: =Q36 -> 243
B37: 陆丰市 | C37: 255097 | D37: =C37/C$6 -> 0.0252401 | E37: 2686 | F37: =E37/E$6 -> 0.063237198 | G37: 0.69041281 | H37: =1/G37 -> 1.4484088 | I37: =H37/$H$6 -> 0.015567678 | J37: 2 | K37: =J37/J$6 -> 0.021505376 | L37: =D37*0.3+F37*0.3++I37*0.3+K37*0.1 -> 0.033364031 | M37: =$M$6*L37 -> 155.47638 | N37: 200 | P37: =M37+O37+N37 -> 355.47638 | Q37: =ROUND(P37,0) -> 355 | R37: =Q37 -> 355
B38: 海丰县 | C38: 141409 | D38: =C38/C$6 -> 0.013991452 | E38: 417 | F38: =E38/E$6 -> 0.0098175397 | G38: 0.84093196 | H38: =1/G38 -> 1.1891568 | I38: =H38/$H$6 -> 0.012781206 | J38: 2 | K38: =J38/J$6 -> 0.021505376 | L38: =D38*0.3+F38*0.3++I38*0.3+K38*0.1 -> 0.013127597 | M38: =$M$6*L38 -> 61.174601 | P38: =M38+O38+N38 -> 61.174601 | Q38: =ROUND(P38,0) -> 61 | R38: =Q38 -> 61
A39: 阳江市 | B39: 阳东区 | C39: 99528 | D39: =C39/C$6 -> 0.0098476137 | E39: 1608 | F39: =E39/E$6 -> 0.037857563 | G39: 0.91877129 | H39: =1/G39 -> 1.0884102 | I39: =H39/$H$6 -> 0.011698368 | J39: 1 | K39: =J39/J$6 -> 0.010752688 | L39: =D39*0.3+F39*0.3++I39*0.3+K39*0.1 -> 0.018896332 | M39: =$M$6*L39 -> 88.056908 | P39: =M39+O39+N39 -> 88.056908 | Q39: =ROUND(P39,0) -> 88 | R39: =Q39 -> 88
B40: 阳西县 | C40: 102247 | D40: =C40/C$6 -> 0.01011664 | E40: 1212 | F40: =E40/E$6 -> 0.028534432 | G40: 0.77881576 | H40: =1/G40 -> 1.2840007 | I40: =H40/$H$6 -> 0.0138006 | J40: 1 | K40: =J40/J$6 -> 0.010752688 | L40: =D40*0.3+F40*0.3++I40*0.3+K40*0.1 -> 0.01681077 | M40: =$M$6*L40 -> 78.33819 | N40: 200 | P40: =M40+O40+N40 -> 278.33819 | Q40: =ROUND(P40,0) -> 278 | R40: =Q40 -> 278
B41: 阳春市 | C41: 226202 | D41: =C41/C$6 -> 0.022381138 | E41: 1046 | F41: =E41/E$6 -> 0.024626251 | G41: 0.6506626 | H41: =1/G41 -> 1.5368948 | I41: =H41/$H$6 -> 0.016518737 | J41: 1 | K41: =J41/J$6 -> 0.010752688 | L41: =D41*0.3+F41*0.3++I41*0.3+K41*0.1 -> 0.020133107 | M41: =$M$6*L41 -> 93.820277 | N41: 200 | P41: =M41+O41+N41 -> 293.82028 | Q41: =ROUND(P41,0) -> 294 | R41: =Q41 -> 294
A42: 湛江市 | B42: 霞山区 | C42: 91931 | D42: =C42/C$6 -> 0.0090959426 | E42: 14 | F42: =E42/E$6 -> 0.00032960565 | G42: 0.53768197 | H42: =1/G42 -> 1.8598355 | I42: =H42/$H$6 -> 0.019989743 | J42: 1 | K42: =J42/J$6 -> 0.010752688 | L42: =D42*0.3+F42*0.3++I42*0.3+K42*0.1 -> 0.0098998562 | M42: =$M$6*L42 -> 46.13333 | P42: =M42+O42+N42 -> 46.13333 | Q42: =ROUND(P42,0) -> 46 | R42: =Q42 -> 46
B43: 坡头区 | C43: 78999 | D43: =C43/C$6 -> 0.0078164098 | E43: 148 | F43: =E43/E$6 -> 0.0034844026 | G43: 0.58396368 | H43: =1/G43 -> 1.7124353 | I43: =H43/$H$6 -> 0.018405467 | J43: 1 | K43: =J43/J$6 -> 0.010752688 | L43: =D43*0.3+F43*0.3++I43*0.3+K43*0.1 -> 0.0099871528 | M43: =$M$6*L43 -> 46.540132 | P43: =M43+O43+N43 -> 46.540132 | Q43: =ROUND(P43,0) -> 47 | R43: =Q43 -> 47
B44: 麻章区 | C44: 107360 | D44: =C44/C$6 -> 0.010622536 | E44: 89 | F44: =E44/E$6 -> 0.0020953502 | G44: 0.61452736 | H44: =1/G44 -> 1.6272668 | I44: =H44/$H$6 -> 0.017490066 | J44: 1 | K44: =J44/J$6 -> 0.010752688 | L44: =D44*0.3+F44*0.3++I44*0.3+K44*0.1 -> 0.010137655 | M44: =$M$6*L44 -> 47.241471 | P44: =M44+O44+N44 -> 47.241471 | Q44: =ROUND(P44,0) -> 47 | R44: =Q44 -> 47
B45: 遂溪县 | C45: 196997 | D45: =C45/C$6 -> 0.019491503 | E45: 689 | F45: =E45/E$6 -> 0.016221307 | G45: 0.58798043 | H45: =1/G45 -> 1.7007369 | I45: =H45/$H$6 -> 0.018279732 | J45: 1 | K45: =J45/J$6 -> 0.010752688 | L45: =D45*0.3+F45*0.3++I45*0.3+K45*0.1 -> 0.017273031 | M45: =$M$6*L45 -> 80.492326 | P45: =M45+O45+N45 -> 80.492326 | Q45: =ROUND(P45,0) -> 80 | R45: =Q45 -> 80
B46: 吴川市 | C46: 207093 | D46: =C46/C$6 -> 0.020490433 | E46: 552 | F46: =E46/E$6 -> 0.01299588 | G46: 0.53945922 | H46: =1/G46 -> 1.8537082 | I46: =H46/$H$6 -> 0.019923887 | J46: 1 | K46: =J46/J$6 -> 0.010752688 | L46: =D46*0.3+F46*0.3++I46*0.3+K46*0.1 -> 0.017098329 | M46: =$M$6*L46 -> 79.678213 | N46: 200 | P46: =M46+O46+N46 -> 279.67821 | Q46: =ROUND(P46,0) -> 280 | R46: =Q46 -> 280
B47: 徐闻县 | C47: 142085 | D47: =C47/C$6 -> 0.014058337 | E47: 774 | F47: =E47/E$6 -> 0.018222484 | G47: 0.64038983 | H47: =1/G47 -> 1.5615488 | I47: =H47/$H$6 -> 0.016783721 | J47: 1 | K47: =J47/J$6 -> 0.010752688 | L47: =D47*0.3+F47*0.3++I47*0.3+K47*0.1 -> 0.015794632 | M47: =$M$6*L47 -> 73.602983 | P47: =M47+O47+N47 -> 73.602983 | Q47: =ROUND(P47,0) -> 74 | R47: =Q47 -> 74
B48: 廉江市 | C48: 323473 | D48: =C48/C$6 -> 0.032005437 | E48: 1590 | F48: =E48/E$6 -> 0.037433785 | G48: 0.71476821 | H48: =1/G48 -> 1.399055 | I48: =H48/$H$6 -> 0.015037217 | J48: 1 | K48: =J48/J$6 -> 0.010752688 | L48: =D48*0.3+F48*0.3++I48*0.3+K48*0.1 -> 0.0264182 | M48: =$M$6*L48 -> 123.10881 | N48: 200 | P48: =M48+O48+N48 -> 323.10881 | Q48: =ROUND(P48,0) -> 323 | R48: =Q48 -> 323
B49: 雷州市 | C49: 303904 | D49: =C49/C$6 -> 0.030069219 | E49: 770 | F49: =E49/E$6 -> 0.018128311 | G49: 0.59486933 | H49: =1/G49 -> 1.6810414 | I49: =H49/$H$6 -> 0.018068043 | J49: 1 | K49: =J49/J$6 -> 0.010752688 | L49: =D49*0.3+F49*0.3++I49*0.3+K49*0.1 -> 0.02095494 | M49: =$M$6*L49 -> 97.650022 | P49: =M49+O49+N49 -> 97.650022 | Q49: =ROUND(P49,0) -> 98 | R49: =Q49 -> 98
A50: 茂名市 | B50: 茂南区 | C50: 177932 | D50: =C50/C$6 -> 0.017605152 | E50: 1092 | F50: =E50/E$6 -> 0.025709241 | G50: 0.72884259 | H50: =1/G50 -> 1.3720384 | I50: =H50/$H$6 -> 0.014746839 | J50: 1 | K50: =J50/J$6 -> 0.010752688 | L50: =D50*0.3+F50*0.3++I50*0.3+K50*0.1 -> 0.018493638 | M50: =$M$6*L50 -> 86.180355 | P50: =M50+O50+N50 -> 86.180355 | Q50: =ROUND(P50,0) -> 86 | R50: =Q50 -> 86
B51: 电白区 | C51: 318763 | D51: =C51/C$6 -> 0.031539415 | E51: 1546 | F51: =E51/E$6 -> 0.036397881 | G51: 0.90391168 | H51: =1/G51 -> 1.1063028 | I51: =H51/$H$6 -> 0.01189068 | J51: 1 | K51: =J51/J$6 -> 0.010752688 | L51: =D51*0.3+F51*0.3++I51*0.3+K51*0.1 -> 0.025023662 | M51: =$M$6*L51 -> 116.61026 | P51: =M51+O51+N51 -> 116.61026 | Q51: =ROUND(P51,0) -> 117 | R51: =Q51 -> 117
B52: 信宜市 | C52: 258009 | D52: =C52/C$6 -> 0.025528223 | E52: 1104 | F52: =E52/E$6 -> 0.02599176 | G52: 0.75203842 | H52: =1/G52 -> 1.3297193 | I52: =H52/$H$6 -> 0.014291989 | J52: 1 | K52: =J52/J$6 -> 0.010752688 | L52: =D52*0.3+F52*0.3++I52*0.3+K52*0.1 -> 0.02081886 | M52: =$M$6*L52 -> 97.015888 | N52: 200 | P52: =M52+O52+N52 -> 297.01589 | Q52: =ROUND(P52,0) -> 297 | R52: =Q52 -> 297
B53: 高州市 | C53: 333195 | D53: =C53/C$6 -> 0.032967362 | E53: 870 | F53: =E53/E$6 -> 0.020482637 | G53: 0.70659013 | H53: =1/G53 -> 1.4152476 | I53: =H53/$H$6 -> 0.015211258 | J53: 1 | K53: =J53/J$6 -> 0.010752688 | L53: =D53*0.3+F53*0.3++I53*0.3+K53*0.1 -> 0.021673646 | M53: =$M$6*L53 -> 100.99919 | N53: 200 | P53: =M53+O53+N53 -> 300.99919 | Q53: =ROUND(P53,0) -> 301 | R53: =Q53 -> 301
B54: 化州市 | C54: 287827 | D54: =C54/C$6 -> 0.02847851 | E54: 2432 | F54: =E54/E$6 -> 0.05725721 | G54: 0.66206572 | H54: =1/G54 -> 1.5104241 | I54: =H54/$H$6 -> 0.016234226 | J54: 1 | K54: =J54/J$6 -> 0.010752688 | L54: =D54*0.3+F54*0.3++I54*0.3+K54*0.1 -> 0.031666253 | M54: =$M$6*L54 -> 147.56474 | P54: =M54+O54+N54 -> 147.56474 | Q54: =ROUND(P54,0) -> 148 | R54: =Q54 -> 148
A55: 肇庆市 | B55: 封开县 | C55: 91604 | D55: =C55/C$6 -> 0.0090635882 | E55: 244 | F55: =E55/E$6 -> 0.0057445556 | G55: 0.8599842 | H55: =1/G55 -> 1.1628121 | I55: =H55/$H$6 -> 0.012498049 | J55: 1 | K55: =J55/J$6 -> 0.010752688 | L55: =D55*0.3+F55*0.3++I55*0.3+K55*0.1 -> 0.0092671266 | M55: =$M$6*L55 -> 43.18481 | P55: =M55+O55+N55 -> 43.18481 | Q55: =ROUND(P55,0) -> 43 | R55: =Q55 -> 43
B56: 怀集县 | C56: 148710 | D56: =C56/C$6 -> 0.014713836 | E56: 305 | F56: =E56/E$6 -> 0.0071806945 | G56: 0.60513382 | H56: =1/G56 -> 1.6525271 | I56: =H56/$H$6 -> 0.017761566 | J56: 1 | K56: =J56/J$6 -> 0.010752688 | L56: =D56*0.3+F56*0.3++I56*0.3+K56*0.1 -> 0.012972098 | M56: =$M$6*L56 -> 60.449976 | P56: =M56+O56+N56 -> 60.449976 | Q56: =ROUND(P56,0) -> 60 | R56: =Q56 -> 60
B57: 德庆县 | C57: 80216 | D57: =C57/C$6 -> 0.0079368236 | E57: 243 | F57: =E57/E$6 -> 0.0057210124 | G57: 0.76901892 | H57: =1/G57 -> 1.3003581 | I57: =H57/$H$6 -> 0.013976411 | J57: 1 | K57: =J57/J$6 -> 0.010752688 | L57: =D57*0.3+F57*0.3++I57*0.3+K57*0.1 -> 0.0093655429 | M57: =$M$6*L57 -> 43.64343 | P57: =M57+O57+N57 -> 43.64343 | Q57: =ROUND(P57,0) -> 44 | R57: =Q57 -> 44
B58: 广宁县 | C58: 116580 | D58: =C58/C$6 -> 0.011534792 | E58: 423 | F58: =E58/E$6 -> 0.0099587993 | G58: 0.64270012 | H58: =1/G58 -> 1.5559356 | I58: =H58/$H$6 -> 0.01672339 | J58: 1 | K58: =J58/J$6 -> 0.010752688 | L58: =D58*0.3+F58*0.3++I58*0.3+K58*0.1 -> 0.012540363 | M58: =$M$6*L58 -> 58.438092 | P58: =M58+O58+N58 -> 58.438092 | Q58: =ROUND(P58,0) -> 58 | R58: =Q58 -> 58
A59: 清远市 | B59: 清新区 | C59: 133563 | D59: =C59/C$6 -> 0.013215144 | E59: 583 | F59: =E59/E$6 -> 0.013725721 | G59: 0.81291775 | H59: =1/G59 -> 1.2301367 | I59: =H59/$H$6 -> 0.013221663 | J59: 1 | K59: =J59/J$6 -> 0.010752688 | L59: =D59*0.3+F59*0.3++I59*0.3+K59*0.1 -> 0.013124027 | M59: =$M$6*L59 -> 61.157966 | P59: =M59+O59+N59 -> 61.157966 | Q59: =ROUND(P59,0) -> 61 | R59: =Q59 -> 61
B60: 佛冈县 | C60: 65843 | D60: =C60/C$6 -> 0.0065147137 | E60: 732 | F60: =E60/E$6 -> 0.017233667 | G60: 0.90010917 | H60: =1/G60 -> 1.1109763 | I60: =H60/$H$6 -> 0.011940912 | J60: 1 | K60: =J60/J$6 -> 0.010752688 | L60: =D60*0.3+F60*0.3++I60*0.3+K60*0.1 -> 0.011782057 | M60: =$M$6*L60 -> 54.904384 | P60: =M60+O60+N60 -> 54.904384 | Q60: =ROUND(P60,0) -> 55 | R60: =Q60 -> 55
B61: 连州市 | C61: 112044 | D61: =C61/C$6 -> 0.011085986 | E61: 563 | F61: =E61/E$6 -> 0.013254856 | G61: 0.70765165 | H61: =1/G61 -> 1.4131247 | I61: =H61/$H$6 -> 0.01518844 | J61: 1 | K61: =J61/J$6 -> 0.010752688 | L61: =D61*0.3+F61*0.3++I61*0.3+K61*0.1 -> 0.012934053 | M61: =$M$6*L61 -> 60.272689 | N61: 200 | P61: =M61+O61+N61 -> 260.27269 | Q61: =ROUND(P61,0) -> 260 | R61: =Q61 -> 260
B62: 阳山县 | C62: 101154 | D62: =C62/C$6 -> 0.010008495 | E62: 229 | F62: =E62/E$6 -> 0.0053914067 | G62: 0.65646594 | H62: =1/G62 -> 1.5233083 | I62: =H62/$H$6 -> 0.016372707 | J62: 1 | K62: =J62/J$6 -> 0.010752688 | L62: =D62*0.3+F62*0.3++I62*0.3+K62*0.1 -> 0.010607052 | M62: =$M$6*L62 -> 49.42886 | P62: =M62+O62+N62 -> 49.42886 | Q62: =ROUND(P62,0) -> 49 | R62: =Q62 -> 49
B63: 英德市 | C63: 207639 | D63: =C63/C$6 -> 0.020544456 | E63: 502 | F63: =E63/E$6 -> 0.011818717 | G63: 0.91014356 | H63: =1/G63 -> 1.0987278 | I63: =H63/$H$6 -> 0.011809263 | J63: 1 | K63: =J63/J$6 -> 0.010752688 | L63: =D63*0.3+F63*0.3++I63*0.3+K63*0.1 -> 0.014327 | M63: =$M$6*L63 -> 66.763818 | P63: =M63+O63+N63 -> 66.763818 | Q63: =ROUND(P63,0) -> 67 | R63: =Q63 -> 67
A64: 潮州市 | B64: 潮安区 | C64: 241923 | D64: =C64/C$6 -> 0.023936623 | E64: 572 | F64: =E64/E$6 -> 0.013466745 | G64: 0.74342122 | H64: =1/G64 -> 1.3451324 | I64: =H64/$H$6 -> 0.014457651 | J64: 1 | K64: =J64/J$6 -> 0.010752688 | L64: =D64*0.3+F64*0.3++I64*0.3+K64*0.1 -> 0.016633575 | M64: =$M$6*L64 -> 77.512458 | N64: 200 | P64: =M64+O64+N64 -> 277.51246 | Q64: =ROUND(P64,0) -> 278 | R64: =Q64 -> 278
B65: 湘桥区 | C65: 126797 | D65: =C65/C$6 -> 0.012545694 | E65: 287 | F65: =E65/E$6 -> 0.0067569158 | G65: 0.55441847 | H65: =1/G65 -> 1.8036917 | I65: =H65/$H$6 -> 0.019386303 | J65: 1 | K65: =J65/J$6 -> 0.010752688 | L65: =D65*0.3+F65*0.3++I65*0.3+K65*0.1 -> 0.012681943 | M65: =$M$6*L65 -> 59.097853 | P65: =M65+O65+N65 -> 59.097853 | Q65: =ROUND(P65,0) -> 59 | R65: =Q65 -> 59
B66: 饶平县 | C66: 212292 | D66: =C66/C$6 -> 0.021004839 | E66: 377 | F66: =E66/E$6 -> 0.0088758093 | G66: 0.68922344 | H66: =1/G66 -> 1.4509083 | I66: =H66/$H$6 -> 0.015594543 | J66: 2 | K66: =J66/J$6 -> 0.021505376 | L66: =D66*0.3+F66*0.3++I66*0.3+K66*0.1 -> 0.015793095 | M66: =$M$6*L66 -> 73.595822 | N66: 200 | P66: =M66+O66+N66 -> 273.59582 | Q66: =ROUND(P66,0) -> 274 | R66: =Q66 -> 274
A67: 揭阳市 | B67: 揭东区 | C67: 209473 | D67: =C67/C$6 -> 0.020725918 | E67: 215 | F67: =E67/E$6 -> 0.0050618011 | G67: 0.6047962 | H67: =1/G67 -> 1.6534495 | I67: =H67/$H$6 -> 0.017771481 | J67: 1 | K67: =J67/J$6 -> 0.010752688 | L67: =D67*0.3+F67*0.3++I67*0.3+K67*0.1 -> 0.014143029 | M67: =$M$6*L67 -> 65.906515 | P67: =M67+O67+N67 -> 65.906515 | Q67: =ROUND(P67,0) -> 66 | R67: =Q67 -> 66
B68: 普宁市 | C68: 335044 | D68: =C68/C$6 -> 0.033150308 | E68: 151 | F68: =E68/E$6 -> 0.0035550324 | G68: 0.75124175 | H68: =1/G68 -> 1.3311294 | I68: =H68/$H$6 -> 0.014307145 | J68: 2 | K68: =J68/J$6 -> 0.021505376 | L68: =D68*0.3+F68*0.3++I68*0.3+K68*0.1 -> 0.017454283 | M68: =$M$6*L68 -> 81.33696 | N68: 200 | P68: =M68+O68+N68 -> 281.33696 | Q68: =ROUND(P68,0) -> 281 | R68: =Q68 -> 281
B69: 揭西县 | C69: 184819 | D69: =C69/C$6 -> 0.018286574 | E69: 1200 | F69: =E69/E$6 -> 0.028251913 | G69: 0.65798009 | H69: =1/G69 -> 1.5198028 | I69: =H69/$H$6 -> 0.01633503 | J69: 2 | K69: =J69/J$6 -> 0.021505376 | L69: =D69*0.3+F69*0.3++I69*0.3+K69*0.1 -> 0.021012593 | M69: =$M$6*L69 -> 97.918682 | P69: =M69+O69+N69 -> 97.918682 | Q69: =ROUND(P69,0) -> 98 | R69: =Q69 -> 98
B70: 惠来县 | C70: 189031 | D70: =C70/C$6 -> 0.018703322 | E70: 436 | F70: =E70/E$6 -> 0.010264862 | G70: 0.61249768 | H70: =1/G70 -> 1.6326592 | I70: =H70/$H$6 -> 0.017548025 | J70: 2 | K70: =J70/J$6 -> 0.021505376 | L70: =D70*0.3+F70*0.3++I70*0.3+K70*0.1 -> 0.0161054 | M70: =$M$6*L70 -> 75.051165 | N70: 200 | O70: 54 | P70: =M70+O70+N70 -> 329.05117 | Q70: =ROUND(P70,0) -> 329 | R70: =Q70 -> 329
A71: 云浮市 | B71: 云城区 | C71: 64220 | D71: =C71/C$6 -> 0.006354129 | E71: 272 | F71: =E71/E$6 -> 0.0064037669 | G71: 0.73431791 | H71: =1/G71 -> 1.361808 | I71: =H71/$H$6 -> 0.014636882 | J71: 1 | K71: =J71/J$6 -> 0.010752688 | L71: =D71*0.3+F71*0.3++I71*0.3+K71*0.1 -> 0.0092937021 | M71: =$M$6*L71 -> 43.308652 | N71: 200 | P71: =M71+O71+N71 -> 243.30865 | Q71: =ROUND(P71,0) -> 243 | R71: =Q71 -> 243
B72: 云安区 | C72: 59270 | D72: =C72/C$6 -> 0.0058643604 | E72: 212 | F72: =E72/E$6 -> 0.0049911713 | G72: 0.86511223 | H72: =1/G72 -> 1.1559194 | I72: =H72/$H$6 -> 0.012423965 | J72: 1 | K72: =J72/J$6 -> 0.010752688 | L72: =D72*0.3+F72*0.3++I72*0.3+K72*0.1 -> 0.008059118 | M72: =$M$6*L72 -> 37.55549 | N72: 200 | P72: =M72+O72+N72 -> 237.55549 | Q72: =ROUND(P72,0) -> 238 | R72: =Q72 -> 238
B73: 郁南县 | C73: 103798 | D73: =C73/C$6 -> 0.010270101 | E73: 428 | F73: =E73/E$6 -> 0.010076516 | G73: 0.72401912 | H73: =1/G73 -> 1.381179 | I73: =H73/$H$6 -> 0.014845084 | J73: 1 | K73: =J73/J$6 -> 0.010752688 | L73: =D73*0.3+F73*0.3++I73*0.3+K73*0.1 -> 0.011632779 | M73: =$M$6*L73 -> 54.20875 | N73: 200 | P73: =M73+O73+N73 -> 254.20875 | Q73: =ROUND(P73,0) -> 254 | R73: =Q73 -> 254
B74: 罗定市 | C74: 215795 | D74: =C74/C$6 -> 0.021351437 | E74: 688 | F74: =E74/E$6 -> 0.016197763 | G74: 0.6040983 | H74: =1/G74 -> 1.6553597 | I74: =H74/$H$6 -> 0.017792013 | J74: 1 | K74: =J74/J$6 -> 0.010752688 | L74: =D74*0.3+F74*0.3++I74*0.3+K74*0.1 -> 0.017677633 | M74: =$M$6*L74 -> 82.377768 | N74: 200 | P74: =M74+O74+N74 -> 282.37777 | Q74: =ROUND(P74,0) -> 282 | R74: =Q74 -> 282
B75: 新兴县 | C75: 93430 | D75: =C75/C$6 -> 0.0092442584 | E75: 925 | F75: =E75/E$6 -> 0.021777516 | G75: 0.85910641 | H75: =1/G75 -> 1.1640002 | I75: =H75/$H$6 -> 0.012510819 | J75: 1 | K75: =J75/J$6 -> 0.010752688 | L75: =D75*0.3+F75*0.3++I75*0.3+K75*0.1 -> 0.014135047 | M75: =$M$6*L75 -> 65.869318 | N75: 200 | O75: 174 | P75: =M75+O75+N75 -> 439.86932 | Q75: =ROUND(P75,0) -> 440 | R75: =Q75 -> 440

Sheet 附件2-2资金下达表
A1: 附件2-2
A2: 年中下达2024年中央专项彩票公益金支持 地方社会公益事业发展资金分配表
C3: 单位：万元
A4: 地区 | B4: 本次下达金额 | C4: 备注
A5: 下达总额 | B5: =B6+B10+B12+B13+B14+B15+B16+B17+B18+B20+B21+B22+B23+B24+B25+B28+B29+B30+B31+B32+B33+B34+B37+B38+B39+B41+B42+B43+B44+B46+B47+B48+B52+B53+B54+B55+B56+B57+B60+B61+B62+B63+B64+B65+B66+B67+B68+B70+B71+B72+B73+B74+B77+B78+B80+B81+B82+B83+B86+B87+B88 -> 16884
A6: 汕头市合计 | B6: =SUM(B7:B9) -> 205
A7: 澄海区 | B7: =VLOOKUP(A7,附件1、资金分配测算表!B:R,17,FALSE) -> 51
A8: 潮阳区 | B8: =VLOOKUP(A8,附件1、资金分配测算表!B:R,17,FALSE) -> 85
A9: 潮南区 | B9: =VLOOKUP(A9,附件1、资金分配测算表!B:R,17,FALSE) -> 69
A10: 韶关市合计 | B10: =SUM(B11:B11) -> 43
A11: 曲江区 | B11: =VLOOKUP(A11,附件1、资金分配测算表!B:R,17,FALSE) -> 43
A12: 南雄市 | B12: =VLOOKUP(A12,附件1、资金分配测算表!B:R,17,FALSE) -> 1434 | C12: 含南雄市珠玑综合养老服务中心建设项目800万元及南雄市珠玑综合养老服务中心附属楼建设项目380万元、问题整治200万元
A13: 仁化县 | B13: =VLOOKUP(A13,附件1、资金分配测算表!B:R,17,FALSE) -> 33
A14: 始兴县 | B14: =VLOOKUP(A14,附件1、资金分配测算表!B:R,17,FALSE) -> 32
A15: 翁源县 | B15: =VLOOKUP(A15,附件1、资金分配测算表!B:R,17,FALSE) -> 48
A16: 新丰县 | B16: =VLOOKUP(A16,附件1、资金分配测算表!B:R,17,FALSE) -> 41
A17: 乳源县 | B17: =VLOOKUP(A17,附件1、资金分配测算表!B:R,17,FALSE) -> 31
A18: 河源市合计 | B18: =SUM(B19:B19) -> 38
A19: 源城区 | B19: =VLOOKUP(A19,附件1、资金分配测算表!B:R,17,FALSE) -> 38
A20: 东源县 | B20: =VLOOKUP(A20,附件1、资金分配测算表!B:R,17,FALSE) -> 398 | C20: 含东源县顺天镇社区综合养老服务中心及长者饭堂项目126万元、问题整治200万元
A21: 和平县 | B21: =VLOOKUP(A21,附件1、资金分配测算表!B:R,17,FALSE) -> 53
A22: 龙川县 | B22: =VLOOKUP(A22,附件1、资金分配测算表!B:R,17,FALSE) -> 643 | C22: 含龙川县赤光、上坪、四都、龙母镇敬老院消防升级改造工程99万元及龙川县龙母镇敬老院扩建工程383万元及铁场镇敬老院升级改造48万元
A23: 紫金县 | B23: =VLOOKUP(A23,附件1、资金分配测算表!B:R,17,FALSE) -> 82
A24: 连平县 | B24: =VLOOKUP(A24,附件1、资金分配测算表!B:R,17,FALSE) -> 271 | C24: 含问题整治200万元
A25: 梅州市合计 | B25: =SUM(B26:B27) -> 3487
A26: 梅县区 | B26: =VLOOKUP(A26,附件1、资金分配测算表!B:R,17,FALSE) -> 3432 | C26: 含梅县区水车镇综合养老服务中心改扩建项目2497万元及丙村镇综合养老服务中心672万元、问题整治200万元
A27: 梅江区 | B27: =VLOOKUP(A27,附件1、资金分配测算表!B:R,17,FALSE) -> 55
A28: 兴宁市 | B28: =VLOOKUP(A28,附件1、资金分配测算表!B:R,17,FALSE) -> 104
A29: 平远县 | B29: =VLOOKUP(A29,附件1、资金分配测算表!B:R,17,FALSE) -> 44
A30: 蕉岭县 | B30: =VLOOKUP(A30,附件1、资金分配测算表!B:R,17,FALSE) -> 243 | C30: 含问题整治200万元
A31: 大埔县 | B31: =VLOOKUP(A31,附件1、资金分配测算表!B:R,17,FALSE) -> 64
A32: 丰顺县 | B32: =VLOOKUP(A32,附件1、资金分配测算表!B:R,17,FALSE) -> 1065 | C32: 含丰顺县公办养老机构改造升级项目981万元
A33: 五华县 | B33: =VLOOKUP(A33,附件1、资金分配测算表!B:R,17,FALSE) -> 79
A34: 惠州市合计 | B34: =SUM(B35:B36) -> 81
A35: 惠城区 | B35: =VLOOKUP(A35,附件1、资金分配测算表!B:R,17,FALSE) -> 53
A36: 惠阳区 | B36: =VLOOKUP(A36,附件1、资金分配测算表!B:R,17,FALSE) -> 28
A37: 惠东县 | B37: =VLOOKUP(A37,附件1、资金分配测算表!B:R,17,FALSE) -> 1410 | C37: 含惠东县九龙峰综合养老服务中心项目750万元及惠东县黄埠镇盐洲综合养老服务中心项目600万元
A38: 龙门县 | B38: =VLOOKUP(A38,附件1、资金分配测算表!B:R,17,FALSE) -> 35
A39: 汕尾市合计 | B39: =SUM(B40:B40) -> 118
A40: 城区 | B40: =VLOOKUP(A40,附件1、资金分配测算表!B:R,17,FALSE) -> 118 | C40: 含养老服务体系建设项目（凤山街道综合养老服务中心示范点改造项目）60万元
A41: 陆丰市 | B41: =VLOOKUP(A41,附件1、资金分配测算表!B:R,17,FALSE) -> 355 | C41: 含问题整治200万元
A42: 海丰县 | B42: =VLOOKUP(A42,附件1、资金分配测算表!B:R,17,FALSE) -> 61
A43: 陆河县 | B43: =VLOOKUP(A43,附件1、资金分配测算表!B:R,17,FALSE) -> 243 | C43: 含问题整治200万元
A44: 阳江市合计 | B44: =SUM(B45:B45) -> 88
A45: 阳东区 | B45: =VLOOKUP(A45,附件1、资金分配测算表!B:R,17,FALSE) -> 88
A46: 阳春市 | B46: =VLOOKUP(A46,附件1、资金分配测算表!B:R,17,FALSE) -> 294 | C46: 含问题整治200万元
A47: 阳西县 | B47: =VLOOKUP(A47,附件1、资金分配测算表!B:R,17,FALSE) -> 278 | C47: 含问题整治200万元
A48: 湛江市合计 | B48: =SUM(B49:B51) -> 140
A49: 霞山区 | B49: =VLOOKUP(A49,附件1、资金分配测算表!B:R,17,FALSE) -> 46
A50: 麻章区 | B50: =VLOOKUP(A50,附件1、资金分配测算表!B:R,17,FALSE) -> 47
A51: 坡头区 | B51: =VLOOKUP(A51,附件1、资金分配测算表!B:R,17,FALSE) -> 47
A52: 雷州市 | B52: =VLOOKUP(A52,附件1、资金分配测算表!B:R,17,FALSE) -> 98
A53: 廉江市 | B53: =VLOOKUP(A53,附件1、资金分配测算表!B:R,17,FALSE) -> 323 | C53: 含问题整治200万元
A54: 吴川市 | B54: =VLOOKUP(A54,附件1、资金分配测算表!B:R,17,FALSE) -> 280 | C54: 含问题整治200万元
A55: 遂溪县 | B55: =VLOOKUP(A55,附件1、资金分配测算表!B:R,17,FALSE) -> 80
A56: 徐闻县 | B56: =VLOOKUP(A56,附件1、资金分配测算表!B:R,17,FALSE) -> 74
A57: 茂名市合计 | B57: =SUM(B58:B59) -> 203
A58: 电白区 | B58: =VLOOKUP(A58,附件1、资金分配测算表!B:R,17,FALSE) -> 117
A59: 茂南区 | B59: =VLOOKUP(A59,附件1、资金分配测算表!B:R,17,FALSE) -> 86
A60: 信宜市 | B60: =VLOOKUP(A60,附件1、资金分配测算表!B:R,17,FALSE) -> 297 | C60: 含问题整治200万元
A61: 高州市 | B61: =VLOOKUP(A61,附件1、资金分配测算表!B:R,17,FALSE) -> 301 | C61: 含问题整治200万元
A62: 化州市 | B62: =VLOOKUP(A62,附件1、资金分配测算表!B:R,17,FALSE) -> 148
A63: 肇庆市合计 | B63: 0
A64: 广宁县 | B64: =VLOOKUP(A64,附件1、资金分配测算表!B:R,17,FALSE) -> 58
A65: 德庆县 | B65: =VLOOKUP(A65,附件1、资金分配测算表!B:R,17,FALSE) -> 44
A66: 封开县 | B66: =VLOOKUP(A66,附件1、资金分配测算表!B:R,17,FALSE) -> 43
A67: 怀集县 | B67: =VLOOKUP(A67,附件1、资金分配测算表!B:R,17,FALSE) -> 60
A68: 清远市合计 | B68: =SUM(B69:B69) -> 61
A69: 清新区 | B69: =VLOOKUP(A69,附件1、资金分配测算表!B:R,17,FALSE) -> 61
A70: 英德市 | B70: =VLOOKUP(A70,附件1、资金分配测算表!B:R,17,FALSE) -> 67
A71: 连州市 | B71: =VLOOKUP(A71,附件1、资金分配测算表!B:R,17,FALSE) -> 260 | C71: 含问题整治200万元
A72: 佛冈县 | B72: =VLOOKUP(A72,附件1、资金分配测算表!B:R,17,FALSE) -> 55
A73: 阳山县 | B73: =VLOOKUP(A73,附件1、资金分配测算表!B:R,17,FALSE) -> 49
A74: 潮州市合计 | B74: =SUM(B75:B76) -> 337
A75: 潮安区 | B75: =VLOOKUP(A75,附件1、资金分配测算表!B:R,17,FALSE) -> 278 | C75: 含问题整治200万元
A76: 湘桥区 | B76: =VLOOKUP(A76,附件1、资金分配测算表!B:R,17,FALSE) -> 59
A77: 饶平县 | B77: =VLOOKUP(A77,附件1、资金分配测算表!B:R,17,FALSE) -> 274 | C77: 含问题整治200万元
A78: 揭阳市合计 | B78: =SUM(B79:B79) -> 66
A79: 揭东区 | B79: =VLOOKUP(A79,附件1、资金分配测算表!B:R,17,FALSE) -> 66
A80: 普宁市 | B80: =VLOOKUP(A80,附件1、资金分配测算表!B:R,17,FALSE) -> 281 | C80: 含问题整治200万元
A81: 揭西县 | B81: =VLOOKUP(A81,附件1、资金分配测算表!B:R,17,FALSE) -> 98
A82: 惠来县 | B82: =VLOOKUP(A82,附件1、资金分配测算表!B:R,17,FALSE) -> 329 | C82: 含靖海镇敬老院提质修缮项目54万元、问题整治200万元
A83: 云浮市合计 | B83: =SUM(B84:B85) -> 481
A84: 云安区 | B84: =VLOOKUP(A84,附件1、资金分配测算表!B:R,17,FALSE) -> 238 | C84: 含问题整治200万元
A85: 云城区 | B85: =VLOOKUP(A85,附件1、资金分配测算表!B:R,17,FALSE) -> 243 | C85: 含问题整治200万元
A86: 罗定市 | B86: =VLOOKUP(A86,附件1、资金分配测算表!B:R,17,FALSE) -> 282 | C86: 含问题整治200万元
A87: 新兴县 | B87: =VLOOKUP(A87,附件1、资金分配测算表!B:R,17,FALSE) -> 440 | C87: 太平镇等4个乡镇居家养老服务中心项目（太平镇居家养老服务中心、稔村镇居家养老服务中心、稔村镇布辰居家养老服务站、水台镇六乡居家养老服务站）174万元、问题整治200万元
A88: 郁南县 | B88: =VLOOKUP(A88,附件1、资金分配测算表!B:R,17,FALSE) -> 254 | C88: 含问题整治200万元

Sheet 附件6、支出计划表
A1: 附件6
A2: 资金支出计划表
N3: 单位：万元
A4: 序号 | B4: 申报单位（处室） | C4: 项目名称 | D4: 申请金额 | E4: 1—3月累计支出计划 | F4: 1—4月累计支出计划 | G4: 1—5月累计支出计划 | H4: 1—6月累计支出计划 | I4: 1—7月累计支出计划 | J4: 1—8月累计支出计划 | K4: 1—9月累计支出计划 | L4: 1—10月累计支出计划 | M4: 1—11月累计支出计划 | N4: 1—12月累计支出计划 | O4: 备注
A5: 1 | B5: 养老服务处 | C5: 2024年中央专项彩票公益金支持地方社会公益事业发展增量资金 | D5: 16884 | E5: 0 | F5: 0 | G5: 0 | H5: 2412 | I5: 4824 | J5: 7236 | K5: 9648 | L5: 12060 | M5: 14472 | N5: 16884
E7: =D13*3 -> 2532.6 | F7: =E7+D13 -> 3376.8 | G7: =F7+D13 -> 4221 | H7: =G7+D13 -> 5065.2 | I7: =H7+F13 -> 7035 | J7: =I7+F13 -> 9004.8 | K7: =J7+F13 -> 10974.6 | L7: =K7+F13 -> 12944.4 | M7: =L7+F13 -> 14914.2 | N7: =M7+F13 -> 16884
D8: 上半年 | F8: 下半年
D9: =D5*0.3 -> 5065.2 | F9: =D5*0.7 -> 11818.8 | L9: =D5/7 -> 2412 | M9: 2412
H10: =$M9*1 -> 2412 | I10: =H10+$M9 -> 4824 | J10: =I10+$M9 -> 7236 | K10: =J10+$M9 -> 9648 | L10: =K10+$M9 -> 12060 | M10: =L10+$M9 -> 14472 | N10: =M10+$M9 -> 16884
D11: =D9/6 -> 844.2 | F11: =F9/6 -> 1969.8
C13: 每月 | D13: 844.2 | F13: 1969.8
