Workbook

Sheet 附件2-1、补助地市资金分配测算表
A1: 附件2-1
A2: 提前下达2024年中央专项彩票公益金支持地方社会公益事业发展资金（补助地市）分配测算表
A3: 地区 | C3: 2022年60岁及以上老年人数 | D3: 2022年60岁及以上老年人数系数 | E3: 特困人员中失能、部分失能人员数 | F3: 特困人员中失能、部分失能人员系数 | G3: 2022年财力综合系数 | H3: 2022年地方财力系数 | I3: 老区苏区（重点2、其他1） | J3: 老区苏区系数 | K3: 2022年60岁及以上老年人数系数：特困人员中失能、部分失能人员系数：地方财力系数：老区苏区系数=3:3:3：1 | L3: 测算下达金额 | M3: 重点工程建设项目 | N3: 下达资金 | O3: 下达资金取整
A4: 单位 | C4: 人 | E4: 人 | I4: 个 | L4: 万元 | M4: 万元 | N4: 万元 | O4: 万元
A5: 栏目 | C5: 1 | D5: 2 | E5: 3 | F5: 4 | G5: 5 | H5: 6 | I5: 7 | J5: 8 | K5: 9 | L5: 10 | M5: 11 | N5: 12 | O5: 13
A6: 合计 | C6: =SUM(C7:C75) -> 9502502 | D6: =SUM(D7:D75) -> 1 | E6: =SUM(E7:E75) -> 40367 | F6: =SUM(F7:F75) -> 1 | G6: =SUM(G7:G75) -> 53.333053 | H6: =SUM(H7:H75) -> 1 | I6: =SUM(I7:I75) -> 93 | J6: =SUM(J7:J75) -> 1 | K6: =SUM(K7:K75) -> 1 | L6: 13292 | M6: =SUM(M7:M75) -> 10225 | N6: =SUM(N7:N75) -> 23517 | O6: =SUM(O7:O75) -> 23517
A7: 汕头市 | B7: 潮阳区 | C7: 261384 | D7: =C7/C$6 -> 0.027506861 | E7: 398 | F7: =E7/E$6 -> 0.0098595387 | G7: 0.6359518 | H7: =SUM(1-G7/$G$6)/68 -> 0.014530527 | I7: 2 | J7: =I7/I$6 -> 0.021505376 | K7: =D7*0.3+F7*0.3++H7*0.3+J7*0.1 -> 0.017719616 | L7: =$L$6*K7 -> 235.52913 | M7: 0 | N7: =L7+M7 -> 235.52913 | O7: =ROUND(N7,0) -> 236
B8: 潮南区 | C8: 187791 | D8: =C8/C$6 -> 0.019762269 | E8: 122 | F8: =E8/E$6 -> 0.0030222707 | G8: 0.56640943 | H8: =SUM(1-G8/$G$6)/68 -> 0.014549702 | I8: 2 | J8: =I8/I$6 -> 0.021505376 | K8: =D8*0.3+F8*0.3++H8*0.3+J8*0.1 -> 0.01335081 | L8: =$L$6*K8 -> 177.45897 | M8: 0 | N8: =L8+M8 -> 177.45897 | O8: =ROUND(N8,0) -> 177
B9: 澄海区 | C9: 161921 | D9: =C9/C$6 -> 0.017039828 | E9: 39 | F9: =E9/E$6 -> 0.0009661357 | G9: 0.71600375 | H9: =SUM(1-G9/$G$6)/68 -> 0.014508454 | I9: 1 | J9: =I9/I$6 -> 0.010752688 | K9: =D9*0.3+F9*0.3++H9*0.3+J9*0.1 -> 0.010829594 | L9: =$L$6*K9 -> 143.94696 | M9: 0 | N9: =L9+M9 -> 143.94696 | O9: =ROUND(N9,0) -> 144
A10: 韶关市 | B10: 曲江区 | C10: 62969 | D10: =C10/C$6 -> 0.0066265706 | E10: 351 | F10: =E10/E$6 -> 0.0086952213 | G10: 0.84188757 | H10: =SUM(1-G10/$G$6)/68 -> 0.014473743 | I10: 1 | J10: =I10/I$6 -> 0.010752688 | K10: =D10*0.3+F10*0.3++H10*0.3+J10*0.1 -> 0.010013929 | L10: =$L$6*K10 -> 133.10515 | M10: 0 | N10: =L10+M10 -> 133.10515 | O10: =ROUND(N10,0) -> 133
B11: 始兴县 | C11: 47101 | D11: =C11/C$6 -> 0.0049566946 | E11: 75 | F11: =E11/E$6 -> 0.0018579533 | G11: 0.86130181 | H11: =SUM(1-G11/$G$6)/68 -> 0.01446839 | I11: 1 | J11: =I11/I$6 -> 0.010752688 | K11: =D11*0.3+F11*0.3++H11*0.3+J11*0.1 -> 0.0074601801 | L11: =$L$6*K11 -> 99.160714 | M11: 1594 | N11: =L11+M11 -> 1693.1607 | O11: =ROUND(N11,0) -> 1693
B12: 新丰县 | C12: 45814 | D12: =C12/C$6 -> 0.0048212565 | E12: 328 | F12: =E12/E$6 -> 0.008125449 | G12: 0.82017143 | H12: =SUM(1-G12/$G$6)/68 -> 0.014479731 | I12: 1 | J12: =I12/I$6 -> 0.010752688 | K12: =D12*0.3+F12*0.3++H12*0.3+J12*0.1 -> 0.0093031998 | L12: =$L$6*K12 -> 123.65813 | M12: 0 | N12: =L12+M12 -> 123.65813 | O12: =ROUND(N12,0) -> 124
B13: 南雄市 | C13: 91076 | D13: =C13/C$6 -> 0.0095844231 | E13: 355 | F13: =E13/E$6 -> 0.0087943122 | G13: 0.79861716 | H13: =SUM(1-G13/$G$6)/68 -> 0.014485674 | I13: 2 | J13: =I13/I$6 -> 0.021505376 | K13: =D13*0.3+F13*0.3++H13*0.3+J13*0.1 -> 0.012009861 | L13: =$L$6*K13 -> 159.63507 | M13: 0 | N13: =L13+M13 -> 159.63507 | O13: =ROUND(N13,0) -> 160
B14: 仁化县 | C14: 40244 | D14: =C14/C$6 -> 0.0042350951 | E14: 148 | F14: =E14/E$6 -> 0.0036663611 | G14: 0.9401081 | H14: =SUM(1-G14/$G$6)/68 -> 0.01444666 | I14: 1 | J14: =I14/I$6 -> 0.010752688 | K14: =D14*0.3+F14*0.3++H14*0.3+J14*0.1 -> 0.0077797037 | L14: =$L$6*K14 -> 103.40782 | M14: 1543 | N14: =L14+M14 -> 1646.4078 | O14: =ROUND(N14,0) -> 1646
B15: 乳源县 | C15: 39326 | D15: =C15/C$6 -> 0.004138489 | E15: 183 | F15: =E15/E$6 -> 0.004533406 | G15: 1.0437939 | H15: =SUM(1-G15/$G$6)/68 -> 0.01441807 | I15: 1 | J15: =I15/I$6 -> 0.010752688 | K15: =D15*0.3+F15*0.3++H15*0.3+J15*0.1 -> 0.0080022583 | L15: =$L$6*K15 -> 106.36602 | M15: 0 | N15: =L15+M15 -> 106.36602 | O15: =ROUND(N15,0) -> 106
B16: 翁源县 | C16: 69658 | D16: =C16/C$6 -> 0.0073304904 | E16: 338 | F16: =E16/E$6 -> 0.0083731761 | G16: 0.75673684 | H16: =SUM(1-G16/$G$6)/68 -> 0.014497222 | I16: 1 | J16: =I16/I$6 -> 0.010752688 | K16: =D16*0.3+F16*0.3++H16*0.3+J16*0.1 -> 0.010135535 | L16: =$L$6*K16 -> 134.72154 | M16: 0 | N16: =L16+M16 -> 134.72154 | O16: =ROUND(N16,0) -> 135
A17: 河源市 | B17: 源城区 | C17: 45244 | D17: =C17/C$6 -> 0.0047612723 | E17: 160 | F17: =E17/E$6 -> 0.0039636337 | G17: 0.80607401 | H17: =SUM(1-G17/$G$6)/68 -> 0.014483618 | I17: 1 | J17: =I17/I$6 -> 0.010752688 | K17: =D17*0.3+F17*0.3++H17*0.3+J17*0.1 -> 0.0080378261 | L17: =$L$6*K17 -> 106.83878 | M17: 1307 | N17: =L17+M17 -> 1413.8388 | O17: =ROUND(N17,0) -> 1414
B18: 和平县 | C18: 89099 | D18: =C18/C$6 -> 0.0093763727 | E18: 259 | F18: =E18/E$6 -> 0.006416132 | G18: 0.70210287 | H18: =SUM(1-G18/$G$6)/68 -> 0.014512287 | I18: 2 | J18: =I18/I$6 -> 0.021505376 | K18: =D18*0.3+F18*0.3++H18*0.3+J18*0.1 -> 0.011241975 | L18: =$L$6*K18 -> 149.42833 | M18: 0 | N18: =L18+M18 -> 149.42833 | O18: =ROUND(N18,0) -> 149
B19: 东源县 | C19: 97112 | D19: =C19/C$6 -> 0.010219624 | E19: 1088 | F19: =E19/E$6 -> 0.026952709 | G19: 0.91125341 | H19: =SUM(1-G19/$G$6)/68 -> 0.014454616 | I19: 1 | J19: =I19/I$6 -> 0.010752688 | K19: =D19*0.3+F19*0.3++H19*0.3+J19*0.1 -> 0.016563354 | L19: =$L$6*K19 -> 220.1601 | M19: 0 | N19: =L19+M19 -> 220.1601 | O19: =ROUND(N19,0) -> 220
B20: 紫金县 | C20: 138645 | D20: =C20/C$6 -> 0.014590368 | E20: 781 | F20: =E20/E$6 -> 0.019347487 | G20: 0.61819596 | H20: =SUM(1-G20/$G$6)/68 -> 0.014535423 | I20: 2 | J20: =I20/I$6 -> 0.021505376 | K20: =D20*0.3+F20*0.3++H20*0.3+J20*0.1 -> 0.016692521 | L20: =$L$6*K20 -> 221.87699 | M20: 0 | N20: =L20+M20 -> 221.87699 | O20: =ROUND(N20,0) -> 222
B21: 龙川县 | C21: 161455 | D21: =C21/C$6 -> 0.016990788 | E21: 1751 | F21: =E21/E$6 -> 0.043377016 | G21: 0.72649127 | H21: =SUM(1-G21/$G$6)/68 -> 0.014505562 | I21: 2 | J21: =I21/I$6 -> 0.021505376 | K21: =D21*0.3+F21*0.3++H21*0.3+J21*0.1 -> 0.024612547 | L21: =$L$6*K21 -> 327.14998 | M21: 0 | N21: =L21+M21 -> 327.14998 | O21: =ROUND(N21,0) -> 327
B22: 连平县 | C22: 71785 | D22: =C22/C$6 -> 0.0075543262 | E22: 841 | F22: =E22/E$6 -> 0.020833849 | G22: 0.67550326 | H22: =SUM(1-G22/$G$6)/68 -> 0.014519621 | I22: 2 | J22: =I22/I$6 -> 0.021505376 | K22: =D22*0.3+F22*0.3++H22*0.3+J22*0.1 -> 0.015022877 | L22: =$L$6*K22 -> 199.68408 | M22: 0 | N22: =L22+M22 -> 199.68408 | O22: =ROUND(N22,0) -> 200
A23: 梅州市 | B23: 梅江区 | C23: 78394 | D23: =C23/C$6 -> 0.0082498273 | E23: 428 | F23: =E23/E$6 -> 0.01060272 | G23: 0.76903508 | H23: =SUM(1-G23/$G$6)/68 -> 0.014493831 | I23: 2 | J23: =I23/I$6 -> 0.021505376 | K23: =D23*0.3+F23*0.3++H23*0.3+J23*0.1 -> 0.012154451 | L23: =$L$6*K23 -> 161.55696 | M23: 2204 | N23: =L23+M23 -> 2365.557 | O23: 2365
B24: 梅县区 | C24: 132538 | D24: =C24/C$6 -> 0.013947695 | E24: 589 | F24: =E24/E$6 -> 0.014591126 | G24: 0.97829836 | H24: =SUM(1-G24/$G$6)/68 -> 0.01443613 | I24: 2 | J24: =I24/I$6 -> 0.021505376 | K24: =D24*0.3+F24*0.3++H24*0.3+J24*0.1 -> 0.015043023 | L24: =$L$6*K24 -> 199.95186 | M24: 0 | N24: =L24+M24 -> 199.95186 | O24: =ROUND(N24,0) -> 200
B25: 平远县 | C25: 50751 | D25: =C25/C$6 -> 0.0053408039 | E25: 324 | F25: =E25/E$6 -> 0.0080263582 | G25: 0.99086895 | H25: =SUM(1-G25/$G$6)/68 -> 0.014432663 | I25: 2 | J25: =I25/I$6 -> 0.021505376 | K25: =D25*0.3+F25*0.3++H25*0.3+J25*0.1 -> 0.010490485 | L25: =$L$6*K25 -> 139.43953 | M25: 1153 | N25: =L25+M25 -> 1292.4395 | O25: =ROUND(N25,0) -> 1292
B26: 蕉岭县 | C26: 55202 | D26: =C26/C$6 -> 0.0058092069 | E26: 274 | F26: =E26/E$6 -> 0.0067877226 | G26: 1.079028 | H26: =SUM(1-G26/$G$6)/68 -> 0.014408355 | I26: 2 | J26: =I26/I$6 -> 0.021505376 | K26: =D26*0.3+F26*0.3++H26*0.3+J26*0.1 -> 0.010252123 | L26: =$L$6*K26 -> 136.27122 | M26: 0 | N26: =L26+M26 -> 136.27122 | O26: =ROUND(N26,0) -> 136
B27: 兴宁市 | C27: 223700 | D27: =C27/C$6 -> 0.023541168 | E27: 925 | F27: =E27/E$6 -> 0.022914757 | G27: 0.74819408 | H27: =SUM(1-G27/$G$6)/68 -> 0.014499578 | I27: 2 | J27: =I27/I$6 -> 0.021505376 | K27: =D27*0.3+F27*0.3++H27*0.3+J27*0.1 -> 0.020437189 | L27: =$L$6*K27 -> 271.65111 | M27: 0 | N27: =L27+M27 -> 271.65111 | O27: =ROUND(N27,0) -> 272
B28: 五华县 | C28: 206049 | D28: =C28/C$6 -> 0.021683658 | E28: 424 | F28: =E28/E$6 -> 0.010503629 | G28: 0.74648492 | H28: =SUM(1-G28/$G$6)/68 -> 0.014500049 | I28: 2 | J28: =I28/I$6 -> 0.021505376 | K28: =D28*0.3+F28*0.3++H28*0.3+J28*0.1 -> 0.016156738 | L28: =$L$6*K28 -> 214.75537 | M28: 0 | N28: =L28+M28 -> 214.75537 | O28: =ROUND(N28,0) -> 215
B29: 丰顺县 | C29: 138479 | D29: =C29/C$6 -> 0.014572899 | E29: 911 | F29: =E29/E$6 -> 0.022567939 | G29: 0.69890627 | H29: =SUM(1-G29/$G$6)/68 -> 0.014513168 | I29: 2 | J29: =I29/I$6 -> 0.021505376 | K29: =D29*0.3+F29*0.3++H29*0.3+J29*0.1 -> 0.017646739 | L29: =$L$6*K29 -> 234.56046 | M29: 0 | N29: =L29+M29 -> 234.56046 | O29: =ROUND(N29,0) -> 235
B30: 大埔县 | C30: 111245 | D30: =C30/C$6 -> 0.011706917 | E30: 514 | F30: =E30/E$6 -> 0.012733173 | G30: 0.74055767 | H30: =SUM(1-G30/$G$6)/68 -> 0.014501683 | I30: 2 | J30: =I30/I$6 -> 0.021505376 | K30: =D30*0.3+F30*0.3++H30*0.3+J30*0.1 -> 0.01383307 | L30: =$L$6*K30 -> 183.86916 | M30: 0 | N30: =L30+M30 -> 183.86916 | O30: =ROUND(N30,0) -> 184
A31: 惠州市 | B31: 惠城区 | C31: 148644 | D31: =C31/C$6 -> 0.015642617 | E31: 400 | F31: =E31/E$6 -> 0.0099090842 | G31: 0.96234868 | H31: =SUM(1-G31/$G$6)/68 -> 0.014440527 | I31: 1 | J31: =I31/I$6 -> 0.010752688 | K31: =D31*0.3+F31*0.3++H31*0.3+J31*0.1 -> 0.013072937 | L31: =$L$6*K31 -> 173.76548 | M31: 0 | N31: =L31+M31 -> 173.76548 | O31: =ROUND(N31,0) -> 174
B32: 惠阳区 | C32: 73168 | D32: =C32/C$6 -> 0.0076998668 | E32: 80 | F32: =E32/E$6 -> 0.0019818168 | G32: 1.5147024 | H32: =SUM(1-G32/$G$6)/68 -> 0.014288223 | I32: 1 | J32: =I32/I$6 -> 0.010752688 | K32: =D32*0.3+F32*0.3++H32*0.3+J32*0.1 -> 0.0082662409 | L32: =$L$6*K32 -> 109.87487 | M32: 0 | N32: =L32+M32 -> 109.87487 | O32: =ROUND(N32,0) -> 110
B33: 惠东县 | C33: 133947 | D33: =C33/C$6 -> 0.014095972 | E33: 505 | F33: =E33/E$6 -> 0.012510219 | G33: 1.2352828 | H33: =SUM(1-G33/$G$6)/68 -> 0.014365269 | I33: 2 | J33: =I33/I$6 -> 0.021505376 | K33: =D33*0.3+F33*0.3++H33*0.3+J33*0.1 -> 0.014441976 | L33: =$L$6*K33 -> 191.96274 | M33: 0 | N33: =L33+M33 -> 191.96274 | O33: =ROUND(N33,0) -> 192
B34: 龙门县 | C34: 58948 | D34: =C34/C$6 -> 0.0062034188 | E34: 270 | F34: =E34/E$6 -> 0.0066886318 | G34: 1.2548594 | H34: =SUM(1-G34/$G$6)/68 -> 0.014359872 | I34: 1 | J34: =I34/I$6 -> 0.010752688 | K34: =D34*0.3+F34*0.3++H34*0.3+J34*0.1 -> 0.0092508455 | L34: =$L$6*K34 -> 122.96224 | M34: 0 | N34: =L34+M34 -> 122.96224 | O34: =ROUND(N34,0) -> 123
A35: 汕尾市 | B35: 城区 | C35: 80223 | D35: =C35/C$6 -> 0.0084423029 | E35: 449 | F35: =E35/E$6 -> 0.011122947 | G35: 0.70523326 | H35: =SUM(1-G35/$G$6)/68 -> 0.014511424 | I35: 2 | J35: =I35/I$6 -> 0.021505376 | K35: =D35*0.3+F35*0.3++H35*0.3+J35*0.1 -> 0.01237354 | L35: =$L$6*K35 -> 164.46909 | M35: 0 | N35: =L35+M35 -> 164.46909 | O35: =ROUND(N35,0) -> 164
B36: 陆河县 | C36: 53613 | D36: =C36/C$6 -> 0.0056419878 | E36: 194 | F36: =E36/E$6 -> 0.0048059058 | G36: 0.77760949 | H36: =SUM(1-G36/$G$6)/68 -> 0.014491467 | I36: 2 | J36: =I36/I$6 -> 0.021505376 | K36: =D36*0.3+F36*0.3++H36*0.3+J36*0.1 -> 0.0096323458 | L36: =$L$6*K36 -> 128.03314 | M36: 0 | N36: =L36+M36 -> 128.03314 | O36: =ROUND(N36,0) -> 128
B37: 陆丰市 | C37: 246767 | D37: =C37/C$6 -> 0.025968634 | E37: 2675 | F37: =E37/E$6 -> 0.066267 | G37: 0.69041281 | H37: =SUM(1-G37/$G$6)/68 -> 0.01451551 | I37: 2 | J37: =I37/I$6 -> 0.021505376 | K37: =D37*0.3+F37*0.3++H37*0.3+J37*0.1 -> 0.034175881 | L37: =$L$6*K37 -> 454.26581 | M37: 0 | N37: =L37+M37 -> 454.26581 | O37: =ROUND(N37,0) -> 454
B38: 海丰县 | C38: 134187 | D38: =C38/C$6 -> 0.014121228 | E38: 396 | F38: =E38/E$6 -> 0.0098099933 | G38: 0.84093196 | H38: =SUM(1-G38/$G$6)/68 -> 0.014474007 | I38: 2 | J38: =I38/I$6 -> 0.021505376 | K38: =D38*0.3+F38*0.3++H38*0.3+J38*0.1 -> 0.013672106 | L38: =$L$6*K38 -> 181.72963 | M38: 0 | N38: =L38+M38 -> 181.72963 | O38: =ROUND(N38,0) -> 182
A39: 阳江市 | B39: 阳东区 | C39: 93825 | D39: =C39/C$6 -> 0.0098737154 | E39: 1581 | F39: =E39/E$6 -> 0.039165655 | G39: 0.91877129 | H39: =SUM(1-G39/$G$6)/68 -> 0.014452543 | I39: 1 | J39: =I39/I$6 -> 0.010752688 | K39: =D39*0.3+F39*0.3++H39*0.3+J39*0.1 -> 0.020122843 | L39: =$L$6*K39 -> 267.47283 | M39: 0 | N39: =L39+M39 -> 267.47283 | O39: =ROUND(N39,0) -> 267
B40: 阳西县 | C40: 100099 | D40: =C40/C$6 -> 0.010533963 | E40: 1076 | F40: =E40/E$6 -> 0.026655436 | G40: 0.77881576 | H40: =SUM(1-G40/$G$6)/68 -> 0.014491134 | I40: 1 | J40: =I40/I$6 -> 0.010752688 | K40: =D40*0.3+F40*0.3++H40*0.3+J40*0.1 -> 0.016579429 | L40: =$L$6*K40 -> 220.37377 | M40: 0 | N40: =L40+M40 -> 220.37377 | O40: =ROUND(N40,0) -> 220
B41: 阳春市 | C41: 212023 | D41: =C41/C$6 -> 0.022312334 | E41: 1050 | F41: =E41/E$6 -> 0.026011346 | G41: 0.6506626 | H41: =SUM(1-G41/$G$6)/68 -> 0.014526471 | I41: 1 | J41: =I41/I$6 -> 0.010752688 | K41: =D41*0.3+F41*0.3++H41*0.3+J41*0.1 -> 0.019930314 | L41: =$L$6*K41 -> 264.91373 | M41: 0 | N41: =L41+M41 -> 264.91373 | O41: =ROUND(N41,0) -> 265
A42: 湛江市 | B42: 霞山区 | C42: 97475 | D42: =C42/C$6 -> 0.010257825 | E42: 23 | F42: =E42/E$6 -> 0.00056977234 | G42: 0.53768197 | H42: =SUM(1-G42/$G$6)/68 -> 0.014557624 | I42: 1 | J42: =I42/I$6 -> 0.010752688 | K42: =D42*0.3+F42*0.3++H42*0.3+J42*0.1 -> 0.008690835 | L42: =$L$6*K42 -> 115.51858 | M42: 0 | N42: =L42+M42 -> 115.51858 | O42: =ROUND(N42,0) -> 116
B43: 坡头区 | C43: 74693 | D43: =C43/C$6 -> 0.0078603509 | E43: 148 | F43: =E43/E$6 -> 0.0036663611 | G43: 0.58396368 | H43: =SUM(1-G43/$G$6)/68 -> 0.014544862 | I43: 1 | J43: =I43/I$6 -> 0.010752688 | K43: =D43*0.3+F43*0.3++H43*0.3+J43*0.1 -> 0.0088967411 | L43: =$L$6*K43 -> 118.25548 | M43: 0 | N43: =L43+M43 -> 118.25548 | O43: =ROUND(N43,0) -> 118
B44: 麻章区 | C44: 91152 | D44: =C44/C$6 -> 0.009592421 | E44: 83 | F44: =E44/E$6 -> 0.002056135 | G44: 0.61452736 | H44: =SUM(1-G44/$G$6)/68 -> 0.014536435 | I44: 1 | J44: =I44/I$6 -> 0.010752688 | K44: =D44*0.3+F44*0.3++H44*0.3+J44*0.1 -> 0.008930766 | L44: =$L$6*K44 -> 118.70774 | M44: 0 | N44: =L44+M44 -> 118.70774 | O44: =ROUND(N44,0) -> 119
B45: 遂溪县 | C45: 194484 | D45: =C45/C$6 -> 0.02046661 | E45: 696 | F45: =E45/E$6 -> 0.017241806 | G45: 0.58798043 | H45: =SUM(1-G45/$G$6)/68 -> 0.014543755 | I45: 1 | J45: =I45/I$6 -> 0.010752688 | K45: =D45*0.3+F45*0.3++H45*0.3+J45*0.1 -> 0.01675092 | L45: =$L$6*K45 -> 222.65323 | M45: 0 | N45: =L45+M45 -> 222.65323 | O45: =ROUND(N45,0) -> 223
B46: 吴川市 | C46: 200361 | D46: =C46/C$6 -> 0.021085078 | E46: 558 | F46: =E46/E$6 -> 0.013823172 | G46: 0.53945922 | H46: =SUM(1-G46/$G$6)/68 -> 0.014557134 | I46: 1 | J46: =I46/I$6 -> 0.010752688 | K46: =D46*0.3+F46*0.3++H46*0.3+J46*0.1 -> 0.015914884 | L46: =$L$6*K46 -> 211.54064 | M46: 0 | N46: =L46+M46 -> 211.54064 | O46: =ROUND(N46,0) -> 212
B47: 徐闻县 | C47: 134821 | D47: =C47/C$6 -> 0.014187948 | E47: 607 | F47: =E47/E$6 -> 0.015037035 | G47: 0.64038983 | H47: =SUM(1-G47/$G$6)/68 -> 0.014529303 | I47: 1 | J47: =I47/I$6 -> 0.010752688 | K47: =D47*0.3+F47*0.3++H47*0.3+J47*0.1 -> 0.014201555 | L47: =$L$6*K47 -> 188.76706 | M47: 1000 | N47: =L47+M47 -> 1188.7671 | O47: =ROUND(N47,0) -> 1189
B48: 廉江市 | C48: 305476 | D48: =C48/C$6 -> 0.032146902 | E48: 1499 | F48: =E48/E$6 -> 0.037134293 | G48: 0.71476821 | H48: =SUM(1-G48/$G$6)/68 -> 0.014508794 | I48: 1 | J48: =I48/I$6 -> 0.010752688 | K48: =D48*0.3+F48*0.3++H48*0.3+J48*0.1 -> 0.026212266 | L48: =$L$6*K48 -> 348.41343 | M48: 0 | N48: =L48+M48 -> 348.41343 | O48: =ROUND(N48,0) -> 348
B49: 雷州市 | C49: 288816 | D49: =C49/C$6 -> 0.030393679 | E49: 753 | F49: =E49/E$6 -> 0.018653851 | G49: 0.59486933 | H49: =SUM(1-G49/$G$6)/68 -> 0.014541855 | I49: 1 | J49: =I49/I$6 -> 0.010752688 | K49: =D49*0.3+F49*0.3++H49*0.3+J49*0.1 -> 0.020152084 | L49: =$L$6*K49 -> 267.86151 | M49: 0 | N49: =L49+M49 -> 267.86151 | O49: =ROUND(N49,0) -> 268
A50: 茂名市 | B50: 茂南区 | C50: 166515 | D50: =C50/C$6 -> 0.01752328 | E50: 484 | F50: =E50/E$6 -> 0.011989992 | G50: 0.72884259 | H50: =SUM(1-G50/$G$6)/68 -> 0.014504914 | I50: 1 | J50: =I50/I$6 -> 0.010752688 | K50: =D50*0.3+F50*0.3++H50*0.3+J50*0.1 -> 0.014280724 | L50: =$L$6*K50 -> 189.81939 | M50: 0 | N50: =L50+M50 -> 189.81939 | O50: =ROUND(N50,0) -> 190
B51: 电白区 | C51: 304219 | D51: =C51/C$6 -> 0.032014621 | E51: 1424 | F51: =E51/E$6 -> 0.03527634 | G51: 0.90391168 | H51: =SUM(1-G51/$G$6)/68 -> 0.014456641 | I51: 1 | J51: =I51/I$6 -> 0.010752688 | K51: =D51*0.3+F51*0.3++H51*0.3+J51*0.1 -> 0.025599549 | L51: =$L$6*K51 -> 340.26921 | M51: 0 | N51: =L51+M51 -> 340.26921 | O51: =ROUND(N51,0) -> 340
B52: 信宜市 | C52: 243090 | D52: =C52/C$6 -> 0.025581684 | E52: 1084 | F52: =E52/E$6 -> 0.026853618 | G52: 0.75203842 | H52: =SUM(1-G52/$G$6)/68 -> 0.014498518 | I52: 1 | J52: =I52/I$6 -> 0.010752688 | K52: =D52*0.3+F52*0.3++H52*0.3+J52*0.1 -> 0.021155415 | L52: =$L$6*K52 -> 281.19777 | M52: 0 | N52: =L52+M52 -> 281.19777 | O52: =ROUND(N52,0) -> 281
B53: 高州市 | C53: 306775 | D53: =C53/C$6 -> 0.032283603 | E53: 838 | F53: =E53/E$6 -> 0.020759531 | G53: 0.70659013 | H53: =SUM(1-G53/$G$6)/68 -> 0.014511049 | I53: 1 | J53: =I53/I$6 -> 0.010752688 | K53: =D53*0.3+F53*0.3++H53*0.3+J53*0.1 -> 0.021341524 | L53: =$L$6*K53 -> 283.67154 | M53: 0 | N53: =L53+M53 -> 283.67154 | O53: =ROUND(N53,0) -> 284
B54: 化州市 | C54: 271878 | D54: =C54/C$6 -> 0.028611202 | E54: 2479 | F54: =E54/E$6 -> 0.061411549 | G54: 0.66206572 | H54: =SUM(1-G54/$G$6)/68 -> 0.014523327 | I54: 1 | J54: =I54/I$6 -> 0.010752688 | K54: =D54*0.3+F54*0.3++H54*0.3+J54*0.1 -> 0.032439092 | L54: =$L$6*K54 -> 431.18041 | M54: 0 | N54: =L54+M54 -> 431.18041 | O54: =ROUND(N54,0) -> 431
A55: 肇庆市 | B55: 封开县 | C55: 84722 | D55: =C55/C$6 -> 0.0089157571 | E55: 351 | F55: =E55/E$6 -> 0.0086952213 | G55: 0.8599842 | H55: =SUM(1-G55/$G$6)/68 -> 0.014468753 | I55: 1 | J55: =I55/I$6 -> 0.010752688 | K55: =D55*0.3+F55*0.3++H55*0.3+J55*0.1 -> 0.010699188 | L55: =$L$6*K55 -> 142.21361 | M55: 0 | N55: =L55+M55 -> 142.21361 | O55: =ROUND(N55,0) -> 142
B56: 怀集县 | C56: 137251 | D56: =C56/C$6 -> 0.01444367 | E56: 305 | F56: =E56/E$6 -> 0.0075556767 | G56: 0.60513382 | H56: =SUM(1-G56/$G$6)/68 -> 0.014539025 | I56: 1 | J56: =I56/I$6 -> 0.010752688 | K56: =D56*0.3+F56*0.3++H56*0.3+J56*0.1 -> 0.01203678 | L56: =$L$6*K56 -> 159.99288 | M56: 0 | N56: =L56+M56 -> 159.99288 | O56: =ROUND(N56,0) -> 160
B57: 德庆县 | C57: 74023 | D57: =C57/C$6 -> 0.0077898431 | E57: 246 | F57: =E57/E$6 -> 0.0060940868 | G57: 0.76901892 | H57: =SUM(1-G57/$G$6)/68 -> 0.014493836 | I57: 1 | J57: =I57/I$6 -> 0.010752688 | K57: =D57*0.3+F57*0.3++H57*0.3+J57*0.1 -> 0.0095885985 | L57: =$L$6*K57 -> 127.45165 | M57: 0 | N57: =L57+M57 -> 127.45165 | O57: =ROUND(N57,0) -> 127
B58: 广宁县 | C58: 107895 | D58: =C58/C$6 -> 0.011354378 | E58: 404 | F58: =E58/E$6 -> 0.010008175 | G58: 0.64270012 | H58: =SUM(1-G58/$G$6)/68 -> 0.014528666 | I58: 1 | J58: =I58/I$6 -> 0.010752688 | K58: =D58*0.3+F58*0.3++H58*0.3+J58*0.1 -> 0.011842635 | L58: =$L$6*K58 -> 157.4123 | M58: 472 | N58: =L58+M58 -> 629.4123 | O58: =ROUND(N58,0) -> 629
A59: 清远市 | B59: 清新区 | C59: 123176 | D59: =C59/C$6 -> 0.012962481 | E59: 587 | F59: =E59/E$6 -> 0.014541581 | G59: 0.81291775 | H59: =SUM(1-G59/$G$6)/68 -> 0.014481731 | I59: 1 | J59: =I59/I$6 -> 0.010752688 | K59: =D59*0.3+F59*0.3++H59*0.3+J59*0.1 -> 0.013671007 | L59: =$L$6*K59 -> 181.71502 | M59: 0 | N59: =L59+M59 -> 181.71502 | O59: =ROUND(N59,0) -> 182
B60: 佛冈县 | C60: 63552 | D60: =C60/C$6 -> 0.0066879228 | E60: 711 | F60: =E60/E$6 -> 0.017613397 | G60: 0.90010917 | H60: =SUM(1-G60/$G$6)/68 -> 0.014457689 | I60: 1 | J60: =I60/I$6 -> 0.010752688 | K60: =D60*0.3+F60*0.3++H60*0.3+J60*0.1 -> 0.012702972 | L60: =$L$6*K60 -> 168.8479 | M60: 0 | N60: =L60+M60 -> 168.8479 | O60: =ROUND(N60,0) -> 169
B61: 连州市 | C61: 105749 | D61: =C61/C$6 -> 0.011128543 | E61: 568 | F61: =E61/E$6 -> 0.014070899 | G61: 0.70765165 | H61: =SUM(1-G61/$G$6)/68 -> 0.014510757 | I61: 1 | J61: =I61/I$6 -> 0.010752688 | K61: =D61*0.3+F61*0.3++H61*0.3+J61*0.1 -> 0.012988329 | L61: =$L$6*K61 -> 172.64086 | M61: 0 | N61: =L61+M61 -> 172.64086 | O61: =ROUND(N61,0) -> 173
B62: 阳山县 | C62: 94243 | D62: =C62/C$6 -> 0.0099177038 | E62: 244 | F62: =E62/E$6 -> 0.0060445413 | G62: 0.65646594 | H62: =SUM(1-G62/$G$6)/68 -> 0.014524871 | I62: 1 | J62: =I62/I$6 -> 0.010752688 | K62: =D62*0.3+F62*0.3++H62*0.3+J62*0.1 -> 0.010221404 | L62: =$L$6*K62 -> 135.8629 | M62: 0 | N62: =L62+M62 -> 135.8629 | O62: =ROUND(N62,0) -> 136
B63: 英德市 | C63: 194486 | D63: =C63/C$6 -> 0.02046682 | E63: 392 | F63: =E63/E$6 -> 0.0097109025 | G63: 0.91014356 | H63: =SUM(1-G63/$G$6)/68 -> 0.014454922 | I63: 1 | J63: =I63/I$6 -> 0.010752688 | K63: =D63*0.3+F63*0.3++H63*0.3+J63*0.1 -> 0.014465062 | L63: =$L$6*K63 -> 192.26961 | M63: 0 | N63: =L63+M63 -> 192.26961 | O63: =ROUND(N63,0) -> 192
A64: 潮州市 | B64: 潮安区 | C64: 212283 | D64: =C64/C$6 -> 0.022339695 | E64: 513 | F64: =E64/E$6 -> 0.0127084 | G64: 0.74342122 | H64: =SUM(1-G64/$G$6)/68 -> 0.014500894 | I64: 1 | J64: =I64/I$6 -> 0.010752688 | K64: =D64*0.3+F64*0.3++H64*0.3+J64*0.1 -> 0.015939966 | L64: =$L$6*K64 -> 211.87402 | M64: 0 | N64: =L64+M64 -> 211.87402 | O64: =ROUND(N64,0) -> 212
B65: 湘桥区 | C65: 111567 | D65: =C65/C$6 -> 0.011740803 | E65: 269 | F65: =E65/E$6 -> 0.0066638591 | G65: 0.55441847 | H65: =SUM(1-G65/$G$6)/68 -> 0.014553009 | I65: 1 | J65: =I65/I$6 -> 0.010752688 | K65: =D65*0.3+F65*0.3++H65*0.3+J65*0.1 -> 0.01096257 | L65: =$L$6*K65 -> 145.71448 | M65: 0 | N65: =L65+M65 -> 145.71448 | O65: =ROUND(N65,0) -> 146
B66: 饶平县 | C66: 190862 | D66: =C66/C$6 -> 0.020085447 | E66: 369 | F66: =E66/E$6 -> 0.0091411301 | G66: 0.68922344 | H66: =SUM(1-G66/$G$6)/68 -> 0.014515838 | I66: 2 | J66: =I66/I$6 -> 0.021505376 | K66: =D66*0.3+F66*0.3++H66*0.3+J66*0.1 -> 0.015273262 | L66: =$L$6*K66 -> 203.0122 | M66: 0 | N66: =L66+M66 -> 203.0122 | O66: =ROUND(N66,0) -> 203
A67: 揭阳市 | B67: 揭东区 | C67: 202277 | D67: =C67/C$6 -> 0.02128671 | E67: 203 | F67: =E67/E$6 -> 0.0050288602 | G67: 0.6047962 | H67: =SUM(1-G67/$G$6)/68 -> 0.014539118 | I67: 1 | J67: =I67/I$6 -> 0.010752688 | K67: =D67*0.3+F67*0.3++H67*0.3+J67*0.1 -> 0.013331675 | L67: =$L$6*K67 -> 177.20463 | M67: 952 | N67: =L67+M67 -> 1129.2046 | O67: =ROUND(N67,0) -> 1129
B68: 普宁市 | C68: 319612 | D68: =C68/C$6 -> 0.03363451 | E68: 142 | F68: =E68/E$6 -> 0.0035177249 | G68: 0.75124175 | H68: =SUM(1-G68/$G$6)/68 -> 0.014498737 | I68: 2 | J68: =I68/I$6 -> 0.021505376 | K68: =D68*0.3+F68*0.3++H68*0.3+J68*0.1 -> 0.017645829 | L68: =$L$6*K68 -> 234.54836 | M68: 0 | N68: =L68+M68 -> 234.54836 | O68: =ROUND(N68,0) -> 235
B69: 揭西县 | C69: 175662 | D69: =C69/C$6 -> 0.018485868 | E69: 1160 | F69: =E69/E$6 -> 0.028736344 | G69: 0.65798009 | H69: =SUM(1-G69/$G$6)/68 -> 0.014524453 | I69: 2 | J69: =I69/I$6 -> 0.021505376 | K69: =D69*0.3+F69*0.3++H69*0.3+J69*0.1 -> 0.020674537 | L69: =$L$6*K69 -> 274.80595 | M69: 0 | N69: =L69+M69 -> 274.80595 | O69: =ROUND(N69,0) -> 275
B70: 惠来县 | C70: 179334 | D70: =C70/C$6 -> 0.018872293 | E70: 397 | F70: =E70/E$6 -> 0.009834766 | G70: 0.61249768 | H70: =SUM(1-G70/$G$6)/68 -> 0.014536994 | I70: 2 | J70: =I70/I$6 -> 0.021505376 | K70: =D70*0.3+F70*0.3++H70*0.3+J70*0.1 -> 0.015123754 | L70: =$L$6*K70 -> 201.02493 | M70: 0 | N70: =L70+M70 -> 201.02493 | O70: =ROUND(N70,0) -> 201
A71: 云浮市 | B71: 云城区 | C71: 59703 | D71: =C71/C$6 -> 0.0062828716 | E71: 285 | F71: =E71/E$6 -> 0.0070602225 | G71: 0.73431791 | H71: =SUM(1-G71/$G$6)/68 -> 0.014503404 | I71: 1 | J71: =I71/I$6 -> 0.010752688 | K71: =D71*0.3+F71*0.3++H71*0.3+J71*0.1 -> 0.0094292182 | L71: =$L$6*K71 -> 125.33317 | M71: 0 | N71: =L71+M71 -> 125.33317 | O71: =ROUND(N71,0) -> 125
B72: 云安区 | C72: 54121 | D72: =C72/C$6 -> 0.0056954474 | E72: 237 | F72: =E72/E$6 -> 0.0058711324 | G72: 0.86511223 | H72: =SUM(1-G72/$G$6)/68 -> 0.014467339 | I72: 1 | J72: =I72/I$6 -> 0.010752688 | K72: =D72*0.3+F72*0.3++H72*0.3+J72*0.1 -> 0.0088854445 | L72: =$L$6*K72 -> 118.10533 | M72: 0 | N72: =L72+M72 -> 118.10533 | O72: =ROUND(N72,0) -> 118
B73: 郁南县 | C73: 102580 | D73: =C73/C$6 -> 0.010795052 | E73: 419 | F73: =E73/E$6 -> 0.010379766 | G73: 0.72401912 | H73: =SUM(1-G73/$G$6)/68 -> 0.014506244 | I73: 1 | J73: =I73/I$6 -> 0.010752688 | K73: =D73*0.3+F73*0.3++H73*0.3+J73*0.1 -> 0.011779587 | L73: =$L$6*K73 -> 156.57427 | M73: 0 | N73: =L73+M73 -> 156.57427 | O73: =ROUND(N73,0) -> 157
B74: 罗定市 | C74: 199138 | D74: =C74/C$6 -> 0.020956375 | E74: 695 | F74: =E74/E$6 -> 0.017217034 | G74: 0.6040983 | H74: =SUM(1-G74/$G$6)/68 -> 0.01453931 | I74: 1 | J74: =I74/I$6 -> 0.010752688 | K74: =D74*0.3+F74*0.3++H74*0.3+J74*0.1 -> 0.016889085 | L74: =$L$6*K74 -> 224.48971 | M74: 0 | N74: =L74+M74 -> 224.48971 | O74: =ROUND(N74,0) -> 224
B75: 新兴县 | C75: 88085 | D75: =C75/C$6 -> 0.0092696639 | E75: 912 | F75: =E75/E$6 -> 0.022592712 | G75: 0.85910641 | H75: =SUM(1-G75/$G$6)/68 -> 0.014468995 | I75: 1 | J75: =I75/I$6 -> 0.010752688 | K75: =D75*0.3+F75*0.3++H75*0.3+J75*0.1 -> 0.01497468 | L75: =$L$6*K75 -> 199.04345 | M75: 0 | N75: =L75+M75 -> 199.04345 | O75: =ROUND(N75,0) -> 199

Sheet 附件2、资金下达表
A1: 附件2-1
A2: 提前下达2024年中央专项彩票公益金支持地方社会 公益事业发展资金分配表
C3: 单位：万元
A4: 地区 | B4: 本次下达金额 | C4: 备注
A5: 下达总额 | B5: =B6+B10+B12+B13+B14+B15+B16+B17+B18+B20+B21+B22+B23+B24+B25+B28+B29+B30+B31+B32+B33+B34+B37+B38+B39+B41+B42+B43+B44+B46+B47+B48+B52+B53+B54+B55+B56+B57+B60+B61+B62+B63+B64+B65+B66+B67+B68+B70+B71+B72+B73+B74+B77+B78+B80+B81+B82+B83+B86+B87+B88 -> 23517
A6: 汕头市合计 | B6: =SUM(B7:B9) -> 557
A7: 澄海区 | B7: =VLOOKUP(A7,'附件2-1、补助地市资金分配测算表'!B:O,14,FALSE) -> 144
A8: 潮阳区 | B8: =VLOOKUP(A8,'附件2-1、补助地市资金分配测算表'!B:O,14,FALSE) -> 236
A9: 潮南区 | B9: =VLOOKUP(A9,'附件2-1、补助地市资金分配测算表'!B:O,14,FALSE) -> 177
A10: 韶关市合计 | B10: =SUM(B11:B11) -> 133
A11: 曲江区 | B11: =VLOOKUP(A11,'附件2-1、补助地市资金分配测算表'!B:O,14,FALSE) -> 133
A12: 南雄市 | B12: =VLOOKUP(A12,'附件2-1、补助地市资金分配测算表'!B:O,14,FALSE) -> 160
A13: 仁化县 | B13: ='附件2-1、补助地市资金分配测算表'!O14 -> 1646 | C13: 含仁化县城乡养老服务体系建设项目1543万元
A14: 始兴县 | B14: ='附件2-1、补助地市资金分配测算表'!O11 -> 1693 | C14: 含始兴县养老服务中心建设项目1594万元
A15: 翁源县 | B15: =VLOOKUP(A15,'附件2-1、补助地市资金分配测算表'!B:O,14,FALSE) -> 135
A16: 新丰县 | B16: =VLOOKUP(A16,'附件2-1、补助地市资金分配测算表'!B:O,14,FALSE) -> 124
A17: 乳源县 | B17: =VLOOKUP(A17,'附件2-1、补助地市资金分配测算表'!B:O,14,FALSE) -> 106
A18: 河源市合计 | B18: =SUM(B19:B19) -> 1414
A19: 源城区 | B19: ='附件2-1、补助地市资金分配测算表'!O17 -> 1414 | C19: 含源城区第二人民福利院1307万元
A20: 东源县 | B20: =VLOOKUP(A20,'附件2-1、补助地市资金分配测算表'!B:O,14,FALSE) -> 220
A21: 和平县 | B21: =VLOOKUP(A21,'附件2-1、补助地市资金分配测算表'!B:O,14,FALSE) -> 149
A22: 龙川县 | B22: =VLOOKUP(A22,'附件2-1、补助地市资金分配测算表'!B:O,14,FALSE) -> 327
A23: 紫金县 | B23: =VLOOKUP(A23,'附件2-1、补助地市资金分配测算表'!B:O,14,FALSE) -> 222
A24: 连平县 | B24: =VLOOKUP(A24,'附件2-1、补助地市资金分配测算表'!B:O,14,FALSE) -> 200
A25: 梅州市合计 | B25: =SUM(B26:B27) -> 2565
A26: 梅县区 | B26: =VLOOKUP(A26,'附件2-1、补助地市资金分配测算表'!B:O,14,FALSE) -> 200
A27: 梅江区 | B27: ='附件2-1、补助地市资金分配测算表'!O23 -> 2365 | C27: 含梅江区长者康养中心建设及配套设施提升工程2204万元
A28: 兴宁市 | B28: =VLOOKUP(A28,'附件2-1、补助地市资金分配测算表'!B:O,14,FALSE) -> 272
A29: 平远县 | B29: ='附件2-1、补助地市资金分配测算表'!O25 -> 1292 | C29: 含平远县养老中心建设项目1153万元
A30: 蕉岭县 | B30: =VLOOKUP(A30,'附件2-1、补助地市资金分配测算表'!B:O,14,FALSE) -> 136
A31: 大埔县 | B31: =VLOOKUP(A31,'附件2-1、补助地市资金分配测算表'!B:O,14,FALSE) -> 184
A32: 丰顺县 | B32: =VLOOKUP(A32,'附件2-1、补助地市资金分配测算表'!B:O,14,FALSE) -> 235
A33: 五华县 | B33: =VLOOKUP(A33,'附件2-1、补助地市资金分配测算表'!B:O,14,FALSE) -> 215
A34: 惠州市合计 | B34: =SUM(B35:B36) -> 284
A35: 惠城区 | B35: =VLOOKUP(A35,'附件2-1、补助地市资金分配测算表'!B:O,14,FALSE) -> 174
A36: 惠阳区 | B36: =VLOOKUP(A36,'附件2-1、补助地市资金分配测算表'!B:O,14,FALSE) -> 110
A37: 惠东县 | B37: =VLOOKUP(A37,'附件2-1、补助地市资金分配测算表'!B:O,14,FALSE) -> 192
A38: 龙门县 | B38: =VLOOKUP(A38,'附件2-1、补助地市资金分配测算表'!B:O,14,FALSE) -> 123
A39: 汕尾市合计 | B39: =SUM(B40:B40) -> 164
A40: 城区 | B40: =VLOOKUP(A40,'附件2-1、补助地市资金分配测算表'!B:O,14,FALSE) -> 164
A41: 陆丰市 | B41: =VLOOKUP(A41,'附件2-1、补助地市资金分配测算表'!B:O,14,FALSE) -> 454
A42: 海丰县 | B42: =VLOOKUP(A42,'附件2-1、补助地市资金分配测算表'!B:O,14,FALSE) -> 182
A43: 陆河县 | B43: =VLOOKUP(A43,'附件2-1、补助地市资金分配测算表'!B:O,14,FALSE) -> 128
A44: 阳江市合计 | B44: =SUM(B45:B45) -> 267
A45: 阳东区 | B45: =VLOOKUP(A45,'附件2-1、补助地市资金分配测算表'!B:O,14,FALSE) -> 267
A46: 阳春市 | B46: =VLOOKUP(A46,'附件2-1、补助地市资金分配测算表'!B:O,14,FALSE) -> 265
A47: 阳西县 | B47: =VLOOKUP(A47,'附件2-1、补助地市资金分配测算表'!B:O,14,FALSE) -> 220
A48: 湛江市合计 | B48: =SUM(B49:B51) -> 353
A49: 霞山区 | B49: =VLOOKUP(A49,'附件2-1、补助地市资金分配测算表'!B:O,14,FALSE) -> 116
A50: 麻章区 | B50: =VLOOKUP(A50,'附件2-1、补助地市资金分配测算表'!B:O,14,FALSE) -> 119
A51: 坡头区 | B51: =VLOOKUP(A51,'附件2-1、补助地市资金分配测算表'!B:O,14,FALSE) -> 118
A52: 雷州市 | B52: =VLOOKUP(A52,'附件2-1、补助地市资金分配测算表'!B:O,14,FALSE) -> 268
A53: 廉江市 | B53: =VLOOKUP(A53,'附件2-1、补助地市资金分配测算表'!B:O,14,FALSE) -> 348
A54: 吴川市 | B54: =VLOOKUP(A54,'附件2-1、补助地市资金分配测算表'!B:O,14,FALSE) -> 212
A55: 遂溪县 | B55: =VLOOKUP(A55,'附件2-1、补助地市资金分配测算表'!B:O,14,FALSE) -> 223
A56: 徐闻县 | B56: ='附件2-1、补助地市资金分配测算表'!O47 -> 1189 | C56: 含徐闻县各乡镇（街道）敬老院改扩升级建设项目1000万元
A57: 茂名市合计 | B57: =SUM(B58:B59) -> 530
A58: 电白区 | B58: =VLOOKUP(A58,'附件2-1、补助地市资金分配测算表'!B:O,14,FALSE) -> 340
A59: 茂南区 | B59: =VLOOKUP(A59,'附件2-1、补助地市资金分配测算表'!B:O,14,FALSE) -> 190
A60: 信宜市 | B60: =VLOOKUP(A60,'附件2-1、补助地市资金分配测算表'!B:O,14,FALSE) -> 281
A61: 高州市 | B61: =VLOOKUP(A61,'附件2-1、补助地市资金分配测算表'!B:O,14,FALSE) -> 284
A62: 化州市 | B62: =VLOOKUP(A62,'附件2-1、补助地市资金分配测算表'!B:O,14,FALSE) -> 431
A63: 肇庆市合计 | B63: 0
A64: 广宁县 | B64: ='附件2-1、补助地市资金分配测算表'!O58 -> 629 | C64: 含广宁县敬老服务中心二期工程472万元
A65: 德庆县 | B65: =VLOOKUP(A65,'附件2-1、补助地市资金分配测算表'!B:O,14,FALSE) -> 127
A66: 封开县 | B66: =VLOOKUP(A66,'附件2-1、补助地市资金分配测算表'!B:O,14,FALSE) -> 142
A67: 怀集县 | B67: =VLOOKUP(A67,'附件2-1、补助地市资金分配测算表'!B:O,14,FALSE) -> 160
A68: 清远市合计 | B68: =SUM(B69:B69) -> 182
A69: 清新区 | B69: =VLOOKUP(A69,'附件2-1、补助地市资金分配测算表'!B:O,14,FALSE) -> 182
A70: 英德市 | B70: =VLOOKUP(A70,'附件2-1、补助地市资金分配测算表'!B:O,14,FALSE) -> 192
A71: 连州市 | B71: =VLOOKUP(A71,'附件2-1、补助地市资金分配测算表'!B:O,14,FALSE) -> 173
A72: 佛冈县 | B72: =VLOOKUP(A72,'附件2-1、补助地市资金分配测算表'!B:O,14,FALSE) -> 169
A73: 阳山县 | B73: =VLOOKUP(A73,'附件2-1、补助地市资金分配测算表'!B:O,14,FALSE) -> 136
A74: 潮州市合计 | B74: =SUM(B75:B76) -> 358
A75: 潮安区 | B75: =VLOOKUP(A75,'附件2-1、补助地市资金分配测算表'!B:O,14,FALSE) -> 212
A76: 湘桥区 | B76: =VLOOKUP(A76,'附件2-1、补助地市资金分配测算表'!B:O,14,FALSE) -> 146
A77: 饶平县 | B77: =VLOOKUP(A77,'附件2-1、补助地市资金分配测算表'!B:O,14,FALSE) -> 203
A78: 揭阳市合计 | B78: =SUM(B79:B79) -> 1129
A79: 揭东区 | B79: ='附件2-1、补助地市资金分配测算表'!O67 -> 1129 | C79: 含曲溪敬老院升级改造项目（揭东区敬老院建设项目）952万元
A80: 普宁市 | B80: =VLOOKUP(A80,'附件2-1、补助地市资金分配测算表'!B:O,14,FALSE) -> 235
A81: 揭西县 | B81: =VLOOKUP(A81,'附件2-1、补助地市资金分配测算表'!B:O,14,FALSE) -> 275
A82: 惠来县 | B82: =VLOOKUP(A82,'附件2-1、补助地市资金分配测算表'!B:O,14,FALSE) -> 201
A83: 云浮市合计 | B83: =SUM(B84:B85) -> 243
A84: 云安区 | B84: =VLOOKUP(A84,'附件2-1、补助地市资金分配测算表'!B:O,14,FALSE) -> 118
A85: 云城区 | B85: =VLOOKUP(A85,'附件2-1、补助地市资金分配测算表'!B:O,14,FALSE) -> 125
A86: 罗定市 | B86: =VLOOKUP(A86,'附件2-1、补助地市资金分配测算表'!B:O,14,FALSE) -> 224
A87: 新兴县 | B87: =VLOOKUP(A87,'附件2-1、补助地市资金分配测算表'!B:O,14,FALSE) -> 199
A88: 郁南县 | B88: =VLOOKUP(A88,'附件2-1、补助地市资金分配测算表'!B:O,14,FALSE) -> 157
