Workbook

Sheet 附件2-1、补助地市资金分配测算表
A1: 附件2-1
A2: 提前下达2024年中央专项彩票公益金支持地方社会公益事业发展资金（补助地市）分配测算表
A3: 地区 | C3: 2022年60岁及以上老年人数 | D3: 2022年60岁及以上老年人数系数 | E3: 特困人员中失能、部分失能人员数 | F3: 特困人员中失能、部分失能人员系数 | G3: 2022年财力综合系数 | H3: 2022年地方财力系数 | I3: 老区苏区（重点2、其他1） | J3: 老区苏区系数 | K3: 2022年60岁及以上老年人数系数：特困人员中失能、部分失能人员系数：地方财力系数：老区苏区系数=3:3:3：1 | L3: 测算下达金额 | M3: 重点工程建设项目 | N3: 下达资金 | O3: 下达资金取整
A4: 单位 | C4: 人 | E4: 人 | I4: 个 | L4: 万元 | M4: 万元 | N4: 万元 | O4: 万元
A5: 栏目 | C5: 1 | D5: 2 | E5: 3 | F5: 4 | G5: 5 | H5: 6 | I5: 7 | J5: 8 | K5: 9 | L5: 10 | M5: 11 | N5: 12 | O5: 13
A6: 合计 | C6: =SUM(C7:C75) -> 9502502 | D6: =SUM(D7:D75) -> 1 | E6: =SUM(E7:E75) -> 40367 | F6: =SUM(F7:F75) -> 1 | G6: =SUM(G7:G75) -> 53.333053 | H6: =SUM(H7:H75) -> 1 | I6: =SUM(I7:I75) -> 93 | J6: =SUM(J7:J75) -> 1 | K6: =SUM(K7:K75) -> 1 | L6: 13292 | M6: =SUM(M7:M75) -> 10225 | N6: =SUM(N7:N75) -> 23517 | O6: =SUM(O7:O75) -> 23517
A7: 汕头市 | B7: 潮阳区 | C7: 261384 | D7: =C7/C$6 -> 0.027506861 | E7: 398 | F7: =E7/E$6 -> 0.0098595387 | G7: 0.6359518 | H7: =SUM(1-G7/$G$6)/68 -> 0.014530527 | I7: 2 | J7: =I7/I$6 -> 0.021505376 | K7: =D7*0.3+F7*0.3++H7*0.3+J7*0.1 -> 0.017719616 | L7: =$L$6*K7 -> 235.52913 | M7: 0 | N7: =L7+M7 -> 235.52913 | O7: =ROUND(N7,0) -> 236
B8: 潮南区 | C8: 187791 | D8: =C8/C$6 -> 0.019762269 | E8: 122 | F8: =E8/E$6 -> 0.0030222707 | G8: 0.56640943 | H8: =SUM(1-G8/$G$6)/68 -> 0.014549702 | I8: 2 | J8: =I8/I$6 -> 0.021505376 | K8: =D8*0.3+F8*0.3++H8*0.3+J8*0.1 -> 0.01335081 | L8: =$L$6*K8 -> 177.45897 | M8: 0 | N8: =L8+M8 -> 177.45897 | O8: =ROUND(N8,0) -> 177
B9: 澄海区 | C9: 161921 | D9: =C9/C$6 -> 0.017039828 | E9: 39 | F9: =E9/E$6 -> 0.0009661357 | G9: 0.71600375 | H9: =SUM(1-G9/$G$6)/68 -> 0.014508454 | I9: 1 | J9: =I9/I$6 -> 0.010752688 | K9: =D9*0.3+F9*0.3++H9*0.3+J9*0.1 -> 0.010829594 | L9: =$L$6*K9 -> 143.94696 | M9: 0 | N9: =L9+M9 -> 143.94696 | O9: =ROUND(N9,0) -> 144
A10: 韶关市 | B10: 曲江区 | C10: 62969 | D10: =C10/C$6 -> 0.0066265706 | E10: 351 | F10: =E10/E$6 -> 0.0086952213 | G10: 0.84188757 | H10: =SUM(1-G10/$G$6)/68 -> 0.014473743 | I10: 1 | J10: =I10/I$6 -> 0.010752688 | K10: =D10*0.3+F10*0.3++H10*0.3+J10*0.1 -> 0.010013929 | L10: =$L$6*K10 -> 133.10515 | M10: 0 | N10: =L10+M10 -> 133.10515 | O10: =ROUND(N10,0) -> 133
B11: 始兴县 | C11: 47101 | D11: =C11/C$6 -> 0.0049566946 | E11: 75 | F11: =E11/E$6 -> 0.0018579533 | G11: 0.86130181 | H11: =SUM(1-G11/$G$6)/68 -> 0.01446839 | I11: 1 | J11: =I11/I$6 -> 0.010752688 | K11: =D11*0.3+F11*0.3++H11*0.3+J11*0.1 -> 0.0074601801 | L11: =$L$6*K11 -> 99.160714 | M11: 1594 | N11: =L11+M11 -> 1693.1607 | O11: =ROUND(N11,0) -> 1693
B12: 新丰县 | C12: 45814 | D12: =C12/C$6 -> 0.0048212565 | E12: 328 | F12: =E12/E$6 -> 0.008125449 | G12: 0.82017143 | H12: =SUM(1-G12/$G$6)/68 -> 0.014479731 | I12: 1 | J12: =I12/I$6 -> 0.010752688 | K12: =D12*0.3+F12*0.3++H12*0.3+J12*0.1 -> 0.0093031998 | L12: =$L$6*K12 -> 123.65813 | M12: 0 | N12: =L12+M12 -> 123.65813 | O12: =ROUND(N12,0) -> 124
B13: 南雄市 | C13: 91076 | D13: =C13/C$6 -> 0.0095844231 | E13: 355 | F13: =E13/E$6 -> 0.0087943122 | G13: 0.79861716 | H13: =SUM(1-G13/$G$6)/68 -> 0.014485674 | I13: 2 | J13: =I13/I$6 -> 0.021505376 | K13: =D13*0.3+F13*0.3++H13*0.3+J13*0.1 -> 0.012009861 | L13: =$L$6*K13 -> 159.63507 | M13: 0 | N13: =L13+M13 -> 159.63507 | O13: =ROUND(N13,0) -> 160
B14: 仁化县 | C14: 40244 | D14: =C14/C$6 -> 0.0042350951 | E14: 148 | F14: =E14/E$6 -> 0.0036663611 | G14: 0.9401081 | H14: =SUM(1-G14/$G$6)/68 -> 0.01444666 | I14: 1 | J14: =I14/I$6 -> 0.010752688 | K14: =D14*0.3+F14*0.3++H14*0.3+J14*0.1 -> 0.0077797037 | L14: =$L$6*K14 -> 103.40782 | M14: 1543 | N14: =L14+M14 -> 1646.4078 | O14: =ROUND(N14,0) -> 1646
B15: 乳源县 | C15: 39326 | D15: =C15/C$6 -> 0.004138489 | E15: 183 | F15: =E15/E$6 -> 0.004533406 | G15: 1.0437939 | H15: =SUM(1-G15/$G$6)/68 -> 0.01441807 | I15: 1 | J15: =I15/I$6 -> 0.010752688 | K15: =D15*0.3+F15*0.3++H15*0.3+J15*0.1 -> 0.0080022583 | L15: =$L$6*K15 -> 106.36602 | M15: 0 | N15: =L15+M15 -> 106.36602 | O15: =ROUND(N15,0) -> 106
B16: 翁源县 | C16: 69658 | D16: =C16/C$6 -> 0.0073304904 | E16: 338 | F16: =E16/E$6 -> 0.0083731761 | G16: 0.75673684 | H16: =SUM(1-G16/$G$6)/68 -> 0.014497222 | I16: 1 | J16: =I16/I$6 -> 0.010752688 | K16: =D16*0.3+F16*0.3++H16*0.3+J16*0.1 -> 0.010135535 | L16: =$L$6*K16 -> 134.72154 | M16: 0 | N16: =L16+M16 -> 134.72154 | O16: =ROUND(N16,0) -> 135
A17: 河源市 | B17: 源城区 | C17: 45244 | D17: =C17/C$6 -> 0.0047612723 | E17: 160 | F17: =E17/E$6 -> 0.0039636337 | G17: 0.80607401 | H17: =SUM(1-G17/$G$6)/68 -> 0.014483618 | I17: 1 | J17: =I17/I$6 -> 0.010752688 | K17: =D17*0.3+F17*0.3++H17*0.3+J17*0.1 -> 0.0080378261 | L17: =$L$6*K17 -> 106.83878 | M17: 1307 | N17: =L17+M17 -> 1413.8388 | O17: =ROUND(N17,0) -> 1414
B18: 和平县 | C18: 89099 | D18: =C18/C$6 -> 0.0093763727 | E18: 259 | F18: =E18/E$6 -> 0.006416132 | G18: 0.70210287 | H18: =SUM(1-G18/$G$6)/68 -> 0.014512287 | I18: 2 | J18: =I18/I$6 -> 0.021505376 | K18: =D18*0.3+F18*0.3++H18*0.3+J18*0.1 -> 0.011241975 | L18: =$L$6*K18 -> 149.42833 | M18: 0 | N18: =L18+M18 -> 149.42833 | O18: =ROUND(N18,0) -> 149
B19: 东源县 | C19: 97112 | D19: =C19/C$6 -> 0.010219624 | E19: 1088 | F19: =E19/E$6 -> 0.026952709 | G19: 0.91125341 | H19: =SUM(1-G19/$G$6)/68 -> 0.014454616 | I19: 1 | J19: =I19/I$6 -> 0.010752688 | K19: =D19*0.3+F19*0.3++H19*0.3+J19*0.1 -> 0.016563354 | L19: =$L$6*K19 -> 220.1601 | M19: 0 | N19: =L19+M19 -> 220.1601 | O19: =ROUND(N19,0) -> 220
B20: 紫金县 | C20: 138645 | D20: =C20/C$6 -> 0.014590368 | E20: 781 | F20: =E20/E$6 -> 0.019347487 | G20: 0.61819596 | H20: =SUM(1-G20/$G$6)/68 -> 0.014535423 | I20: 2 | J20: =I20/I$6 -> 0.021505376 | K20: =D20*0.3+F20*0.3++H20*0.3+J20*0.1 -> 0.016692521 | L20: =$L$6*K20 -> 221.87699 | M20: 0 | N20: =L20+M20 -> 221.87699 | O20: =ROUND(N20,0) -> 222
B21: 龙川县 | C21: 161455 | D21: =C21/C$6 -> 0.016990788 | E21: 1751 | F21: =E21/E$6 -> 0.043377016 | G21: 0.72649127 | H21: =SUM(1-G21/$G$6)/68 -> 0.014505562 | I21: 2 | J21: =I21/I$6 -> 0.021505376 | K21: =D21*0.3+F21*0.3++H21*0.3+J21*0.1 -> 0.024612547 | L21: =$L$6*K21 -> 327.14998 | M21: 0 | N21: =L21+M21 -> 327.14998 | O21: =ROUND(N21,0) -> 327
B22: 连平县 | C22: 71785 | D22: =C22/C$6 -> 0.0075543262 | E22: 841 | F22: =E22/E$6 -> 0.020833849 | G22: 0.67550326 | H22: =SUM(1-G22/$G$6)/68 -> 0.014519621 | I22: 2 | J22: =I22/I$6 -> 0.021505376 | K22: =D22*0.3+F22*0.3++H22*0.3+J22*0.1 -> 0.015022877 | L22: =$L$6*K22 -> 199.68408 | M22: 0 | N22: =L22+M22 -> 199.68408 | O22: =ROUND(N22,0) -> 200
A23: 梅州市 | B23: 梅江区 | C23: 78394 | D23: =C23/C$6 -> 0.0082498273 | E23: 428 | F23: =E23/E$6 -> 0.01060272 | G23: 0.76903508 | H23: =SUM(1-G23/$G$6)/68 -> 0.014493831 | I23: 2 | J23: =I23/I$6 -> 0.021505376 | K23: =D23*0.3+F23*0.3++H23*0.3+J23*0.1 -> 0.012154451 | L23: =$L$6*K23 -> 161.55696 | M23: 2204 | N23: =L23+M23 -> 2365.557 | O23: 2365
B24: 梅县区 | C24: 132538 | D24: =C24/C$6 -> 0.013947695 | E24: 589 | F24: =E24/E$6 -> 0.014591126 | G24: 0.97829836 | H24: =SUM(1-G24/$G$6)/68 -> 0.01443613 | I24: 2 | J24: =I24/I$6 -> 0.021505376 | K24: =D24*0.3+F24*0.3++H24*0.3+J24*0.1 -> 0.015043023 | L24: =$L$6*K24 -> 199.95186 | M24: 0 | N24: =L24+M24 -> 199.95186 | O24: =ROUND(N24,0) -> 200
B25: 平远县 | C25: 50751 | D25: =C25/C$6 -> 0.0053408039 | E25: 324 | F25: =E25/E$6 -> 0.0080263582 | G25: 0.99086895 | H25: =SUM(1-G25/$G$6)/68 -> 0.014432663 | I25: 2 | J25: =I25/I$6 -> 0.021505376 | K25: =D25*0.3+F25*0.3++H25*0.3+J25*0.1 -> 0.010490485 | L25: =$L$6*K25 -> 139.43953 | M25: 1153 | N25: =L25+M25 -> 1292.4395 | O25: =ROUND(N25,0) -> 1292
B26: 蕉岭县 | C26: 55202 | D26: =C26/C$6 -> 0.0058092069 | E26: 274 | F26: =E26/E$6 -> 0.0067877226 | G26: 1.079028 | H26: =SUM(1-G26/$G$6)/68 -> 0.014408355 | I26: 2 | J26: =I26/I$6 -> 0.021505376 | K26: =D26*0.3+F26*0.3++H26*0.3+J26*0.1 -> 0.010252123 | L26: =$L$6*K26 -> 136.27122 | M26: 0 | N26: =L26+M26 -> 136.27122 | O26: =ROUND(N26,0) -> 136
B27: 兴宁市 | C27: 223700 | D27: =C27/C$6 -> 0.023541168 | E27: 925 | F27: =E27/E$6 -> 0.022914757 | G27: 0.74819408 | H27: =SUM(1-G27/$G$6)/68 -> 0.014499578 | I27: 2 | J27: =I27/I$6 -> 0.021505376 | K27: =D27*0.3+F27*0.3++H27*0.3+J27*0.1 -> 0.020437189 | L27: =$L$6*K27 -> 271.65111 | M27: 0 | N27: =L27+M27 -> 271.65111 | O27: =ROUND(N27,0) -> 272
B28: 五华县 | C28: 206049 | D28: =C28/C$6 -> 0.021683658 | E28: 424 | F28: =E28/E$6 -> 0.010503629 | G28: 0.74648492 | H28: =SUM(1-G28/$G$6)/68 -> 0.014500049 | I28: 2 | J28: =I28/I$6 -> 0.021505376 | K28: =D28*0.3+F28*0.3++H28*0.3+J28*0.1 -> 0.016156738 | L28: =$L$6*K28 -> 214.75537 | M28: 0 | N28: =L28+M28 -> 214.75537 | O28: =ROUND(N28,0) -> 215
B29: 丰顺县 | C29: 138479 | D29: =C29/C$6 -> 0.014572899 | E29: 911 | F29: =E29/E$6 -> 0.022567939 | G29: 0.69890627 | H29: =SUM(1-G29/$G$6)/68 -> 0.014513168 | I29: 2 | J29: =I29/I$6 -> 0.021505376 | K29: =D29*0.3+F29*0.3++H29*0.3+J29*0.1 -> 0.017646739 | L29: =$L$6*K29 -> 234.56046 | M29: 0 | N29: =L29+M29 -> 234.56046 | O29: =ROUND(N29,0) -> 235
B30: 大埔县 | C30: 111245 | D30: =C30/C$6 -> 0.011706917 | E30: 514 | F30: =E30/E$6 -> 0.012733173 | G30: 0.74055767 | H30: =SUM(1-G30/$G$6)/68 -> 0.014501683 | I30: 2 | J30: =I30/I$6 -> 0.021505376 | K30: =D30*0.3+F30*0.3++H30*0.3+J30*0.1 -> 0.01383307 | L30: =$L$6*K30 -> 183.86916 | M30: 0 | N30: =L30+M30 -> 183.86916 | O30: =ROUND(N30,0) -> 184
A31: 惠州市 | B31: 惠城区 | C31: 148644 | D31: =C31/C$6 -> 0.015642617 | E31: 400 | F31: =E31/E$6 -> 0.0099090842 | G31: 0.96234868 | H31: =SUM(1-G31/$G$6)/68 -> 0.014440527 | I31: 1 | J31: =I31/I$6 -> 0.010752688 | K31: =D31*0.3+F31*0.3++H31*0.3+J31*0.1 -> 0.013072937 | L31: =$L$6*K31 -> 173.76548 | M31: 0 | N31: =L31+M31 -> 173.76548 | O31: =ROUND(N31,0) -> 174
B32: 惠阳区 | C32: 73168 | D32: =C32/C$6 -> 0.0076998668 | E32: 80 | F32: =E32/E$6 -> 0.0019818168 | G32: 1.5147024 | H32: =SUM(1-G32/$G$6)/68 -> 0.014288223 | I32: 1 | J32: =I32/I$6 -> 0.010752688 | K32: =D32*0.3+F32*0.3++H32*0.3+J32*0.1 -> 0.0082662409 | L32: =$L$6*K32 -> 109.87487 | M32: 0 | N32: =L32+M32 -> 109.87487 | O32: =ROUND(N32,0) -> 110
B33: 惠东县 | C33: 133947 | D33: =C33/C$6 -> 0.014095972 | E33: 505 | F33: =E33/E$6 -> 0.012510219 | G33: 1.2352828 | H33: =SUM(1-G33/$G$6)/68 -> 0.014365269 | I33: 2 | J33: =I33/I$6 -> 0.021505376 | K33: =D33*0.3+F33*0.3++H33*0.3+J33*0.1 -> 0.014441976 | L33: =$L$6*K33 -> 191.96274 | M33: 0 | N33: =L33+M33 -> 191.96274 | O33: =ROUND(N33,0) -> 192
B34: 龙门县 | C34: 58948 | D34: =C34/C$6 -> 0.0062034188 | E34: 270 | F34: =E34/E$6 -> 0.0066886318 | G34: 1.2548594 | H34: =SUM(1-G34/$G$6)/68 -> 0.014359872 | I34: 1 | J34: =I34/I$6 -> 0.010752688 | K34: =D34*0.3+F34*0.3++H34*0.3+J34*0.1 -> 0.0092508455 | L34: =$L$6*K34 -> 122.96224 | M34: 0 | N34: =L34+M34 -> 122.96224 | O34: =ROUND(N34,0) -> 123
A35: 汕尾市 | B35: 城区 | C35: 80223 | D35: =C35/C$6 -> 0.0084423029 | E35: 449 | F35: =E35/E$6 -> 0.011122947 | G35: 0.70523326 | H35: =SUM(1-G35/$G$6)/68 -> 0.014511424 | I35: 2 | J35: =I35/I$6 -> 0.021505376 | K35: =D35*0.3+F35*0.3++H35*0.3+J35*0.1 -> 0.01237354 | L35: =$L$6*K35 -> 164.46909 | M35: 0 | N35: =L35+M35 -> 164.46909 | O35: =ROUND(N35,0) -> 164
B36: 陆河县 | C36: 53613 | D36: =C36/C$6 -> 0.0056419878 | E36: 194 | F36: =E36/E$6 -> 0.0048059058 | G36: 0.77760949 | H36: =SUM(1-G36/$G$6)/68 -> 0.014491467 | I36: 2 | J36: =I36/I$6 -> 0.021505376 | K36: =D36*0.3+F36*0.3++H36*0.3+J36*0.1 -> 0.0096323458 | L36: =$L$6*K36 -> 128.03314 | M36: 0 | N36: =L36+M36 -> 128.03314 | O36: =ROUND(N36,0) -> 128
B37: 陆丰市 | C37: 246767 | D37: =C37/C$6 -> 0.025968634 | E37: 2675 | F37: =E37/E$6 -> 0.066267 | G37: 0.69041281 | H37: =SUM(1-G37/$G$6)/68 -> 0.01451551 | I37: 2 | J37: =I37/I$6 -> 0.021505376 | K37: =D37*0.3+F37*0.3++H37*0.3+J37*0.1 -> 0.034175881 | L37: =$L$6*K37 -> 454.26581 | M37: 0 | N37: =L37+M37 -> 454.26581 | O37: =ROUND(N37,0) -> 454
B38: 海丰县 | C38: 134187 | D38: =C38/C$6 -> 0.014121228 | E38: 396 | F38: =E38/E$6 -> 0.0098099933 | G38: 0.84093196 | H38: =SUM(1-G38/$G$6)/68 -> 0.014474007 | I38: 2 | J38: =I38/I$6 -> 0.021505376 | K38: =D38*0.3+F38*0.3++H38*0.3+J38*0.1 -> 0.013672106 | L38: =$L$6*K38 -> 181.72963 | M38: 0 | N38: =L38+M38 -> 181.72963 | O38: =ROUND(N38,0) -> 182
A39: 阳江市 | B39: 阳东区 | C39: 93825 | D39: =C39/C$6 -> 0.0098737154 | E39: 1581 | F39: =E39/E$6 -> 0.039165655 | G39: 0.91877129 | H39: =SUM(1-G39/$G$6)/68 -> 0.014452543 | I39: 1 | J39: =I39/I$6 -> 0.010752688 | K39: =D39*0.3+F39*0.3++H39*0.3+J39*0.1 -> 0.020122843 | L39: =$L$6*K39 -> 267.47283 | M39: 0 | N39: =L39+M39 -> 267.47283 | O39: =ROUND(N39,0) -> 267
B40: 阳西县 | C40: 100099 | D40: =C40/C$6 -> 0.010533963 | E40: 1076 | F40: =E40/E$6 -> 0.026655436 | G40: 0.77881576 | H40: =SUM(1-G40/$G$6)/68 -> 0.014491134 | I40: 1 | J40: =I40/I$6 -> 0.010752688 | K40: =D40*0.3+F40*0.3++H40*0.3+J40*0.1 -> 0.016579429 | L40: =$L$6*K40 -> 220.37377 | M40: 0 | N40: =L40+M40 -> 220.37377 | O40: =ROUND(N40,0) -> 220
...

Sheet 附件2、资金下达表
A1: 附件2-1
A2: 提前下达2024年中央专项彩票公益金支持地方社会 公益事业发展资金分配表
C3: 单位：万元
A4: 地区 | B4: 本次下达金额 | C4: 备注
A5: 下达总额 | B5: =B6+B10+B12+B13+B14+B15+B16+B17+B18+B20+B21+B22+B23+B24+B25+B28+B29+B30+B31+B32+B33+B34+B37+B38+B39+B41+B42+B43+B44+B46+B47+B48+B52+B53+B54+B55+B56+B57+B60+B61+B62+B63+B64+B65+B66+B67+B68+B70+B71+B72+B73+B74+B77+B78+B80+B81+B82+B83+B86+B87+B88 -> 23517
A6: 汕头市合计 | B6: =SUM(B7:B9) -> 557
A7: 澄海区 | B7: =VLOOKUP(A7,'附件2-1、补助地市资金分配测算表'!B:O,14,FALSE) -> 144
A8: 潮阳区 | B8: =VLOOKUP(A8,'附件2-1、补助地市资金分配测算表'!B:O,14,FALSE) -> 236
A9: 潮南区 | B9: =VLOOKUP(A9,'附件2-1、补助地市资金分配测算表'!B:O,14,FALSE) -> 177
A10: 韶关市合计 | B10: =SUM(B11:B11) -> 133
A11: 曲江区 | B11: =VLOOKUP(A11,'附件2-1、补助地市资金分配测算表'!B:O,14,FALSE) -> 133
A12: 南雄市 | B12: =VLOOKUP(A12,'附件2-1、补助地市资金分配测算表'!B:O,14,FALSE) -> 160
A13: 仁化县 | B13: ='附件2-1、补助地市资金分配测算表'!O14 -> 1646 | C13: 含仁化县城乡养老服务体系建设项目1543万元
A14: 始兴县 | B14: ='附件2-1、补助地市资金分配测算表'!O11 -> 1693 | C14: 含始兴县养老服务中心建设项目1594万元
A15: 翁源县 | B15: =VLOOKUP(A15,'附件2-1、补助地市资金分配测算表'!B:O,14,FALSE) -> 135
A16: 新丰县 | B16: =VLOOKUP(A16,'附件2-1、补助地市资金分配测算表'!B:O,14,FALSE) -> 124
A17: 乳源县 | B17: =VLOOKUP(A17,'附件2-1、补助地市资金分配测算表'!B:O,14,FALSE) -> 106
A18: 河源市合计 | B18: =SUM(B19:B19) -> 1414
A19: 源城区 | B19: ='附件2-1、补助地市资金分配测算表'!O17 -> 1414 | C19: 含源城区第二人民福利院1307万元
A20: 东源县 | B20: =VLOOKUP(A20,'附件2-1、补助地市资金分配测算表'!B:O,14,FALSE) -> 220
A21: 和平县 | B21: =VLOOKUP(A21,'附件2-1、补助地市资金分配测算表'!B:O,14,FALSE) -> 149
A22: 龙川县 | B22: =VLOOKUP(A22,'附件2-1、补助地市资金分配测算表'!B:O,14,FALSE) -> 327
A23: 紫金县 | B23: =VLOOKUP(A23,'附件2-1、补助地市资金分配测算表'!B:O,14,FALSE) -> 222
A24: 连平县 | B24: =VLOOKUP(A24,'附件2-1、补助地市资金分配测算表'!B:O,14,FALSE) -> 200
A25: 梅州市合计 | B25: =SUM(B26:B27) -> 2565
A26: 梅县区 | B26: =VLOOKUP(A26,'附件2-1、补助地市资金分配测算表'!B:O,14,FALSE) -> 200
A27: 梅江区 | B27: ='附件2-1、补助地市资金分配测算表'!O23 -> 2365 | C27: 含梅江区长者康养中心建设及配套设施提升工程2204万元
A28: 兴宁市 | B28: =VLOOKUP(A28,'附件2-1、补助地市资金分配测算表'!B:O,14,FALSE) -> 272
A29: 平远县 | B29: ='附件2-1、补助地市资金分配测算表'!O25 -> 1292 | C29: 含平远县养老中心建设项目1153万元
A30: 蕉岭县 | B30: =VLOOKUP(A30,'附件2-1、补助地市资金分配测算表'!B:O,14,FALSE) -> 136
A31: 大埔县 | B31: =VLOOKUP(A31,'附件2-1、补助地市资金分配测算表'!B:O,14,FALSE) -> 184
A32: 丰顺县 | B32: =VLOOKUP(A32,'附件2-1、补助地市资金分配测算表'!B:O,14,FALSE) -> 235
A33: 五华县 | B33: =VLOOKUP(A33,'附件2-1、补助地市资金分配测算表'!B:O,14,FALSE) -> 215
A34: 惠州市合计 | B34: =SUM(B35:B36) -> 284
A35: 惠城区 | B35: =VLOOKUP(A35,'附件2-1、补助地市资金分配测算表'!B:O,14,FALSE) -> 174
A36: 惠阳区 | B36: =VLOOKUP(A36,'附件2-1、补助地市资金分配测算表'!B:O,14,FALSE) -> 110
A37: 惠东县 | B37: =VLOOKUP(A37,'附件2-1、补助地市资金分配测算表'!B:O,14,FALSE) -> 192
A38: 龙门县 | B38: =VLOOKUP(A38,'附件2-1、补助地市资金分配测算表'!B:O,14,FALSE) -> 123
A39: 汕尾市合计 | B39: =SUM(B40:B40) -> 164
A40: 城区 | B40: =VLOOKUP(A40,'附件2-1、补助地市资金分配测算表'!B:O,14,FALSE) -> 164
...
